Workbook

Sheet Total 2024
B1: 1 | C1: 2 | D1: 3 | E1: 4 | F1: 5 | G1: 6 | H1: 7 | I1: 8 | J1: 9 | K1: 10 | L1: 11 | M1: 12 | N1: 13 | O1: 14 | P1: 15 | Q1: 16 | R1: 17 | S1: 18 | T1: 19 | U1: 20 | V1: 21 | W1: 22 | X1: 23 | Y1: 24 | Z1: 25 | AA1: 26 | AB1: 27
B2: ='CALZ MOS'!A1 -> MOS | C2: ='INT GAL'!A1 -> GAL | D2: =SWR!A1 -> SWA | E2: =KOB!A1 -> KOB | F2: =VIL!A1 -> VIL | G2: =BRA!A1 -> BRA | H2: =GRA!A1 -> GRA | I2: =KLA!A1 -> KLA | J2: =WDON!A1 -> WDON | K2: =STO!A1 -> STO | L2: =LEI!A1 -> LEI | M2: =MAT!A1 -> MAT | N2: =OLA!A1 -> OLA | O2: =FRA!A1 -> FRA | P2: =LULU!A1 -> LULU | Q2: =STK!A1 -> STK | R2: =SEI!A1 -> SEI | S2: =KRE!A1 -> KRE | T2: =WIE!A1 -> WIE | U2: =BERG!A1 -> BERG | V2: =LIN!A1 -> LIN | W2: =LULU2!A1 -> LULU2 | X2: =ING!A1 -> ING | Y2: =MUN!A1 -> MUN | Z2: ='WIE2'!A1 -> WIE2 | AA2: =HAM!A1 -> HAM | AB2: =SPICE!A1 -> SPICE
A3: contract amount | B3: ='CALZ MOS'!M4 -> 43564.77 | C3: ='INT GAL'!M4 -> 56957.32 | D3: =SWR!K4 -> 14988.39 | E3: =KOB!K4 -> 48000 | F3: =VIL!K4 -> 48000 | G3: =BRA!M4 -> 136747.57 | H3: =GRA!O4 -> 41000 | I3: =KLA!K4 -> 12955.25 | J3: =WDON!K4 -> 43500 | K3: =STO!M4 -> 50368.84 | L3: =LEI!K4 -> 72434.83 | M3: =MAT!S4 -> 40811.18 | N3: =OLA!M4 -> 129183.05 | O3: =FRA!U4 -> 119402.13 | P3: =LULU!M4 -> 630472.08 | Q3: =STK!M4+STK!M5 -> 7504.45 | R3: =SEI!M4 -> 68000 | S3: 40000 | T3: =WIE!K4 -> 39000 | U3: =BERG!M4 -> 71500 | V3: =LIN!K4 -> 55000 | W3: =LULU2!K4 -> 12910 | X3: =ING!K4 -> 59000 | Y3: =MUN!K4 -> 89825.47 | Z3: ='WIE2'!K4 -> 83000 | AA3: =HAM!K4 -> 57000 | AB3: =SPICE!K4 -> 4728.19 | AC3: =SUM(B3:AB3) -> 2075853.5
A4: additional works | B4: ='CALZ MOS'!M5 -> 11547.57 | C4: ='INT GAL'!M5 -> 1963.79 | D4: =SWR!K5 -> -1611.38 | E4: =KOB!K5 -> 7924.07 | F4: =VIL!K5 -> 4875.23 | G4: =BRA!M5 -> 9121.36 | H4: =GRA!O5 -> 5715.75 | I4: =KLA!K5 -> 2797.7 | J4: =WDON!K5 -> 0 | K4: =STO!M5 -> 17392.32 | L4: =LEI!K5 -> 14891.4 | M4: =MAT!S5 -> 47337.07 | N4: =OLA!M5 -> 1728 | O4: =FRA!U5 -> 52684.17 | P4: =LULU!M5 -> 0 | Q4: =STK!M11 -> 0 | R4: =SEI!M5 -> 5896.3 | S4: =KRE!M5 -> 0 | T4: =WIE!K5 -> 0 | U4: =BERG!M5 -> 17228.25 | V4: =LIN!K5 -> 0 | W4: =LULU2!K5 -> 11947.66 | X4: =ING!K5 -> 3500 | Y4: =MUN!K5 -> 2703.54 | Z4: ='WIE2'!K5 -> 0 | AA4: =HAM!K5 -> 7030.01 | AB4: =SPICE!K5 -> 0 | AC4: =SUM(B4:AB4) -> 224672.81
A5: total income | B5: =B3+B4 -> 55112.34 | C5: =C3+C4 -> 58921.11 | D5: =D3+D4 -> 13377.01 | E5: =E3+E4 -> 55924.07 | F5: =F3+F4 -> 52875.23 | G5: =G3+G4 -> 145868.93 | H5: =H3+H4 -> 46715.75 | I5: =I3+I4 -> 15752.95 | ... W5: =W3+W4 -> 24857.66 | X5: =X4+X3 -> 62500 | Y5: =Y4+Y3 -> 92529.01 | Z5: =Z4+Z3 -> 83000 | AA5: =AA4+AA3 -> 64030.01 | AB5: =AB4+AB3 -> 4728.19 | AC5: =SUM(B5:AB5) -> 2300526.3
A6: project manager | B6: Alens | C6: Alens | D6: Māris | E6: Alex | F6: Mauro | G6: Alens | H6: Mauro | I6: Kristaps | J6: Mauro | K6: Māris | L6: Alens | M6: Alex | N6: Alex | O6: Kristaps | P6: Alens | Q6: Kristaps | R6: Alens | S6: Alexander | T6: Alens | U6: Alens | V6: Alens | W6: Alens | X6: Alexander | Y6: Kaspars | Z6: Alex | AA6: Kaspars
A8: planned hours | B8: ='CALZ MOS'!Z6 -> 537 | C8: ='INT GAL'!Z6 -> 511 | D8: =SWR!Y6 -> 97.25 | E8: =KOB!M6 -> 214 | F8: =VIL!X6 -> 597.08 | G8: =BRA!Z6 -> 1494.02 | H8: =GRA!AB6 -> 489.05 | I8: =KLA!X6 -> 217.35 | J8: =WDON!X6 -> 496.87 | K8: =STO!Z6 -> 730 | L8: =LEI!X6 -> 840 | M8: =MAT!AG6 -> 560 | N8: =OLA!Z6 -> 1139.51 | O8: =FRA!AI6 -> 904.59 | P8: =LULU!Z6 -> 3502.97 | Q8: =STK!Z6 -> 0 | R8: =SEI!AA6 -> 715.22 | S8: =KRE!Z6 -> 363 | T8: =WIE!X6 -> 375.75 | U8: =BERG!Y6 -> 992.72 | V8: =LIN!X6 -> 680 | W8: =LULU2!Z6 -> 0 | X8: =ING!Y6 -> 624.51 | Y8: =MUN!W6 -> 1055.8 | Z8: ='WIE2'!W6 -> 826 | AA8: =HAM!W6 -> 495.97
A9: worked hours | B9: ='CALZ MOS'!Z7 -> 797.95 | C9: ='INT GAL'!Z7 -> 595.38 | D9: =SWR!Y7 -> 62.5 | E9: =KOB!M7 -> 207.61 | F9: =VIL!X7 -> 522.18 | G9: =BRA!Z7 -> 1444.72 | H9: =GRA!AB7 -> 428.3 | I9: =KLA!X7 -> 205.51 | J9: =WDON!X7 -> 398.31 | K9: =STO!Z7 -> 0 | L9: =LEI!X7 -> 783.32 | M9: =MAT!AG7 -> 554.46 | N9: =OLA!Z7 -> 1304.16 | O9: =FRA!AI7 -> 1076.2 | P9: =LULU!Z7 -> 3437.31 | Q9: =STK!Z7 -> 87.79 | R9: =SEI!AA7 -> 826.23 | S9: =KRE!Z7 -> 400.47 | T9: =WIE!X7 -> 240.47 | U9: =BERG!Y7 -> 1391.09 | V9: =LIN!X7 -> 598.78 | W9: =LULU2!Z7 -> 200.75 | X9: =ING!Y7 -> 801.15 | Y9: =MUN!W7 -> 1107.98 | Z9: ='WIE2'!W7 -> 841.17 | AA9: =HAM!W7 -> 475.35
A10: stundu bilance | B10: =B8-B9 -> -260.95 | C10: =C8-C9 -> -84.38 | D10: =D8-D9 -> 34.75 | E10: =E8-E9 -> 6.39 | F10: =F8-F9 -> 74.9 | G10: =G8-G9 -> 49.3 | H10: =H8-H9 -> 60.75 | I10: =I8-I9 -> 11.84 | ... AA10: =AA8-AA9 -> 20.62
A12: profit % | B12: ='CALZ MOS'!J19 -> 0.31948436 | C12: ='INT GAL'!J18 -> 0.48517868 | D12: =SWR!H19 -> 0.46596564 | E12: =KOB!H18 -> 0.22879626 | F12: =VIL!H18 -> 0.30804074 | G12: =BRA!J19 -> 0.31295556 | H12: =GRA!L19 -> 0.18626869 | I12: =KLA!H18 -> 0.4068521 | J12: =WDON!H20 -> 0.39945174 | K12: =STO!J19 -> 0.21835453 | L12: =LEI!H19 -> 0.11172862 | M12: =MAT!P19 -> 0.15548415 | N12: =OLA!J18 -> 0.091385283 | O12: =FRA!R18 -> 0.15128761 | P12: =LULU!J18 -> 0.35646452 | Q12: =STK!J18 -> 0.073841116 | R12: =SEI!J19 -> 0.17051596 | S12: =KRE!J18 -> 0.30964571 | T12: =WIE!H19 -> 0.2605375 | U12: =BERG!J19 -> 0.25678711 | V12: =LIN!H19 -> 0.21745474 | W12: =LULU2!H19 -> 0.37013815 | X12: =ING!H19 -> 0.11510604 | Y12: =MUN!H19 -> 0.28969544 | Z12: ='WIE2'!H19 -> 0.27645505 | AA12: =HAM!H19 -> 0.19202036 | AB12: =SPICE!H19 -> 0.53562504 | AC12: =AC13/AC5 -> 0.26605428
A13: profit EUR | B13: ='CALZ MOS'!I19 -> 17607.531 | C13: ='INT GAL'!I18 -> 28587.266 | D13: =SWR!G19 -> 6233.2271 | E13: =KOB!G18 -> 12795.218 | F13: =VIL!C18 -> 16287.725 | G13: =BRA!I19 -> 45650.493 | H13: =GRA!K19 -> 8701.6815 | I13: =KLA!G18 -> 6409.1208 | J13: =WDON!G20 -> 17376.151 | K13: =STO!I19 -> 14795.958 | L13: =LEI!G19 -> 9756.8395 | M13: =MAT!O19 -> 13705.656 | N13: =OLA!I18 -> 11963.343 | O13: =FRA!Q18 -> 26034.526 | P13: =LULU!I18 -> 224740.93 | Q13: =STK!I18 -> 554.13696 | R13: =SEI!I19 -> 12600.499 | S13: =KRE!I18 -> 12385.828 | T13: =WIE!G19 -> 10160.962 | U13: =BERG!I19 -> 22784.271 | V13: =LIN!G19 -> 11960.011 | W13: =LULU2!G19 -> 9200.7684 | X13: =ING!G19 -> 7194.1275 | Y13: =MUN!G19 -> 26805.233 | Z13: ='WIE2'!G19 -> 22945.769 | AA13: =HAM!G19 -> 12295.066 | AB13: =SPICE!G19 -> 2532.537 | AC13: =SUM(B13:AB13) -> 612064.87
A14: construction works profit/ loss | B14: =B15-B16 -> 17607.531 | C14: =C15-C16 -> 28587.266 | D14: =D15-D16 -> 6233.2271 | E14: =E15-E16 -> 12795.218 | F14: =F15-F16 -> 16287.725 | G14: =G15-G16 -> 45650.493 | H14: =H15-H16 -> 8701.6815 | I14: =I15-I16 -> 6409.1208 | ... P14: =P15-P16 -> 224740.93 | Q14: =STK!I18 -> 554.13696 | R14: =SEI!I19 -> 12600.499 | S14: =KRE!G17 -> 0 | T14: =T15-T16 -> #REF! | U14: =U15-U16 -> 25094.111 | V14: =V15-V16 -> #REF! | W14: =W15-W16 -> #REF! | X14: =X15-X16 -> #REF! | Y14: =Y15-Y16 -> #REF! | Z14: =Z15-Z16 -> #REF! | AA14: =AA15-AA16 -> #REF!
A15: construction works budget | B15: =B5-B20 -> 55112.34 | C15: =C5-C20 -> 58921.11 | D15: =D5-D20 -> 13377.01 | E15: =E5-E20 -> 55924.07 | F15: =F5-F20 -> 52875.23 | G15: =G5-G20 -> 145868.93 | H15: =H5-H20 -> 46715.75 | I15: =I5-I20 -> 15752.95 | ... AA15: =AA5-AA20 -> #REF!
B16: ='CALZ MOS'!I5-'Total 2024'!B20 -> 37504.809 | C16: ='INT GAL'!I5-'Total 2024'!C21 -> 30333.844 | D16: =SWR!G5-'Total 2024'!D21 -> 7143.7829 | E16: =KOB!G5-'Total 2024'!E21 -> 43128.852 | F16: =VIL!G5-'Total 2024'!F21 -> 36587.505 | G16: =BRA!I5-'Total 2024'!G21 -> 100218.44 | H16: =GRA!K5-'Total 2024'!H21 -> 38014.069 | I16: =KLA!G5-'Total 2024'!I21 -> 9343.8292 | J16: =WDON!G5-'Total 2024'!J21 -> 26123.849 | K16: =STO!I19-'Total 2024'!K21 -> -30476.982 | L16: =LEI!G5-'Total 2024'!L20 -> 77569.391 | M16: =MAT!O5-M20 -> 74442.594 | N16: =OLA!I5-OLA!M27 -> 118947.71 | O16: =FRA!Q5-FRA!U27 -> 140051.77 | P16: =LULU!I5-LULU!M25 -> 405731.15 | Q16: =STK!I5-STK!I8 -> 6950.313 | R16: =SEI!I5-SEI!I8 -> 41051.121 | S16: =KRE!G5-KRE!G8 -> 0 | T16: =WIE!G5-WIE!G8 -> 20199.348 | U16: =BERG!I5-BERG!I8 -> 63634.139 | V16: =LIN!G5-'Total 2024'!V21 -> #REF! | W16: =LULU2!G5 -> 15656.892 | X16: =ING!I5-ING!I8 -> 0 | Y16: =MUN!G5-MUN!G8 -> 51569.827 | Z16: ='WIE2'!G5-'WIE2'!G8 -> 41148.281 | AA16: =HAM!I5-HAM!I8 -> 0
B17: =B14/B15 -> 0.31948436 | C17: =C14/C15 -> 0.48517868 | D17: =D14/D15 -> 0.46596564 | E17: =E14/E15 -> 0.22879626 | F17: =F14/F15 -> 0.30804074 | G17: =G14/G15 -> 0.31295556 | H17: =H14/H15 -> 0.18626869 | I17: =I14/I15 -> 0.4068521 | ... AA17: =AA14/AA15 -> #REF!
A19: subcontractors work profit/loss | B19: =B20-B21 -> 0 | C19: =C20-C21 -> 0 | D19: =D20-D21 -> 0 | E19: =E20-E21 -> 0 | F19: =F20-F21 -> 0 | G19: =G20-G21 -> 0 | H19: =H20-H21 -> 0 | I19: =I20-I21 -> 0 | ... T19: =T20-T21 -> #REF!
A20: subcontractors budget | B20: ='CALZ MOS'!M31 -> 0 | C20: ='INT GAL'!M31 -> 0 | D20: ='INT GAL'!M31 -> 0 | E20: =KOB!K31 -> 0 | F20: =VIL!K31 -> 0 | G20: =BRA!M31 -> 0 | H20: =GRA!O32 -> 0 | I20: =KLA!K31 -> 0 | J20: =WDON!K32 -> 0 | K20: =STO!M31 -> 39798.89 | L20: =LEI!K25 -> 0 | M20: =MAT!S26 -> 0 | N20: =OLA!M26 -> 0 | O20: =FRA!U26 -> 0 | P20: =LULU!M24 -> 0 | Q20: =STK!M31 -> 0 | R20: =SEI!M30 -> 0 | S20: =LULU!P24 -> 0 | T20: =WIE!#REF! -> #REF! | V20: =LIN!#REF! -> #REF! | W20: =LULU2!#REF! -> #REF! | X20: =ING!#REF! -> #REF! | Y20: =MUN!#REF! -> #REF! | Z20: ='WIE2'!#REF! -> #REF! | AA20: =HAM!#REF! -> #REF!
B21: ='CALZ MOS'!M32 -> 0 | C21: ='INT GAL'!M32 -> 0 | D21: =SWR!K27 -> 0 | E21: =KOB!K32 -> 0 | F21: =VIL!K32 -> 0 | G21: =BRA!M32 -> 0 | H21: =GRA!O33 -> 0 | I21: =KLA!K32 -> 0 | J21: =WDON!K33 -> 0 | K21: =STO!M32 -> 45272.94 | L21: =LEI!K26 -> 5200 | M21: =MAT!S27 -> 0 | N21: =OLA!M27 -> 0 | O21: =FRA!U27 -> 6000 | P21: =LULU!M25 -> 0 | Q21: =STK!M32 -> 0 | R21: =SEI!M31 -> 20244.68 | S21: =LULU!P25 -> 0 | T21: =WIE!#REF! -> #REF! | U21: =BERG!#REF! -> #REF! | V21: =LIN!#REF! -> #REF! | W21: =LULU2!#REF! -> #REF! | X21: =ING!#REF! -> #REF! | Y21: =MUN!#REF! -> #REF! | Z21: ='WIE2'!#REF! -> #REF! | AA21: =HAM!#REF! -> #REF!
B22: =B19/B20 -> #DIV/0! | C22: =C19/C20 -> #DIV/0! | D22: =D19/D20 -> #DIV/0! | E22: =E19/E20 -> #DIV/0! | F22: =F19/F20 -> #DIV/0! | G22: =G19/G20 -> #DIV/0! | H22: =H19/H20 -> #DIV/0! | I22: =I19/I20 -> #DIV/0! | ... AA22: =AA19/AA20 -> #REF!
A23: administrative costs 7% | B23: ='CALZ MOS'!I12 -> 3994.1914 | C23: ='INT GAL'!I12 -> 4124.4777 | D23: =SWR!G12 -> 936.3907 | E23: =KOB!G12 -> 3360 | F23: =VIL!G12 -> 3701.2661 | G23: =BRA!I12 -> 10172.276 | H23: =GRA!K12 -> 3270.1025 | I23: =KLA!G12 -> 956.17745 | J23: =WDON!G12 -> 3045 | K23: =STO!I12 -> 4743.2819 | L23: =LEI!G12 -> 6112.8361 | M23: =MAT!O12 -> 6170.3775 | N23: =OLA!I12 -> 9163.7735 | O23: =FRA!Q12 -> 12046.041 | P23: =LULU!I12 -> 75026.178 | Q23: =STK!I12 -> 525.3115 | R23: =SEI!I12 -> 5172.741 | S23: =KRE!I12 -> 2800 | T23: =WIE!G12 -> 2730 | U23: =BERG!I12 -> 5005 | V23: =LIN!G12 -> 3850 | W23: =LULU2!G12 -> 1740.0362 | X23: =ING!G12 -> 4375 | Y23: =MUN!G12 -> 6477.0307 | Z23: ='WIE2'!G12 -> 5810 | AA23: =HAM!G12 -> 4482.1007 | AB23: =SPICE!G12 -> 330.9733 | AC23: =SUM(B23:AB23) -> 190120.56 | AD23: =AC13/AC5 -> 0.26605428

Sheet Profit 
A1: Object | B1: object total | C1: Profit (%) | D1: Project manager
A2: ='INT GAL'!A1 -> GAL | B2: ='INT GAL'!I4 -> 58921.11 | C2: ='INT GAL'!J18 -> 0.48517868 | D2: Alens | E2: =B2*C2 -> 28587.266
A3: =SWR!A1 -> SWA | B3: =SWR!G4 -> 13377.01 | C3: =SWR!H19 -> 0.46596564 | D3: Māris | E3: =B3*C3 -> 6233.2271
A4: =HAM!A1 -> HAM | B4: =HAM!G4 -> 64030.01 | C4: =HAM!H19 -> 0.19202036 | D4: Kaspars | E4: =B4*C4 -> 12295.066
A5: =LULU2!A1 -> LULU2 | B5: =LULU2!G4 -> 24857.66 | C5: =LULU2!H19 -> 0.37013815 | D5: Alens | E5: =B5*C5 -> 9200.7684
A6: =KLA!A1 -> KLA | B6: =KLA!G4 -> 15752.95 | C6: =KLA!H18 -> 0.4068521 | D6: Kristaps | E6: =B6*C6 -> 6409.1208
A7: =WDON!A1 -> WDON | B7: =WDON!G4 -> 43500 | C7: =WDON!H20 -> 0.39945174 | D7: Mauro | E7: =B7*C7 -> 17376.151
A8: =LULU!A1 -> LULU | B8: =LULU!I4 -> 630472.08 | C8: =LULU!J18 -> 0.35646452 | D8: Alens | E8: =B8*C8 -> 224740.93
A9: =KRE!A1 -> KRE | B9: =KRE!I4 -> 40000 | C9: =KRE!J18 -> 0.30964571 | D9: Alexander | E9: =B9*C9 -> 12385.828
A10: ='CALZ MOS'!A1 -> MOS | B10: ='CALZ MOS'!I4 -> 55112.34 | C10: ='CALZ MOS'!J19 -> 0.31948436 | D10: Alens | E10: =B10*C10 -> 17607.531
A11: =WIE!A1 -> WIE | B11: =WIE!G4 -> 39000 | C11: =WIE!H19 -> 0.2605375 | D11: Alens | E11: =B11*C11 -> 10160.962
A12: =BRA!A1 -> BRA | B12: =BRA!I4 -> 145868.93 | C12: =BRA!J19 -> 0.31295556 | D12: Alens | E12: =B12*C12 -> 45650.493
A13: =VIL!A1 -> VIL | B13: =VIL!G4 -> 52875.23 | C13: =VIL!H18 -> 0.30804074 | D13: Mauro | E13: =B13*C13 -> 16287.725
A14: ='WIE2'!A1 -> WIE2 | B14: ='WIE2'!G4 -> 83000 | C14: ='WIE2'!H19 -> 0.27645505 | D14: Alexander | E14: =B14*C14 -> 22945.769
A15: =BERG!A1 -> BERG | B15: =BERG!I4 -> 88728.25 | C15: =BERG!J19 -> 0.25678711 | D15: Alens | E15: =B15*C15 -> 22784.271
A16: =MUN!A1 -> MUN | B16: =MUN!G4 -> 92529.01 | C16: =MUN!H19 -> 0.28969544 | D16: Kaspars | E16: =B16*C16 -> 26805.233
A17: =KOB!A1 -> KOB | B17: =KOB!G4 -> 55924.07 | C17: =KOB!H18 -> 0.22879626 | D17: Alex | E17: =B17*C17 -> 12795.218
A18: =STO!A1 -> STO | B18: =STO!I4 -> 67761.17 | C18: =STO!J19 -> 0.21835453 | D18: Māris | E18: =B18*C18 -> 14795.958
A19: =LIN!A1 -> LIN | B19: =LIN!G4 -> 55000 | C19: =LIN!H19 -> 0.21745474 | D19: Alens | E19: =B19*C19 -> 11960.011
A20: =GRA!A1 -> GRA | B20: =GRA!K4 -> 46715.75 | C20: =GRA!L19 -> 0.18626869 | D20: Mauro | E20: =B20*C20 -> 8701.6815
A21: =FRA!A1 -> FRA | B21: =FRA!Q4 -> 172086.3 | C21: =FRA!R18 -> 0.15128761 | D21: Kristaps/ Kaspars/Alex | E21: =B21*C21 -> 26034.526
A22: =SEI!A1 -> SEI | B22: =SEI!I4 -> 73896.3 | C22: =SEI!J19 -> 0.17051596 | D22: Alens | E22: =B22*C22 -> 12600.499
A23: =MAT!A1 -> MAT | B23: =MAT!O4 -> 88148.25 | C23: =MAT!P19 -> 0.15548415 | D23: Māris/ Jevgēņijs | E23: =B23*C23 -> 13705.656
A24: =ING!A1 -> ING | B24: =ING!G4 -> 62500 | C24: =ING!H19 -> 0.11510604 | D24: Alexander | E24: =B24*C24 -> 7194.1275
A25: =LEI!A1 -> LEI | B25: =LEI!G4 -> 87326.23 | C25: =LEI!H19 -> 0.11172862 | D25: Alens | E25: =B25*C25 -> 9756.8395
A26: =OLA!A1 -> OLA | B26: =OLA!I4 -> 130911.05 | C26: =OLA!J18 -> 0.091385283 | D26: Alexander | E26: =B26*C26 -> 11963.343
A27: =STK!A1 -> STK | B27: =STK!I4 -> 7504.45 | C27: =STK!J18 -> 0.073841116 | D27: Kristaps | E27: =B27*C27 -> 554.13696
A28: =SPICE!A1 -> SPICE | B28: =SPICE!K4 -> 4728.19 | C28: =SPICE!H19 -> 0.53562504 | E28: =SPICE!G19 -> 2532.537

Sheet Bezpeļņas objekti
A1: VSV | B1: Vesuvio
A2: Object costs | N2: KPI
C3: Janvāris | E3: Februāris | G3: Marts | I3: Aprīlis | K3: Total | N3: Object address | O3: execution of contract | AB3: execution of the contract
A4: Objekta ieņēmumi kopā | B4: Budget total | K4: =AC10 -> 16301.506 | N4: Time shedule, weeks | O4: 09/05-15/05 | P4: 16/05-22/05 | Q4: 23/05-29/05 | R4: 30/05-05/06 | S4: 06/06-12/06 | T4: 13/06-21/06 | Z4: total | AB4: planned
A5: Objekta tiešie izdevumi | B5: Direct costs | C5: =C6+C7+C8+C9+C10+C11+C13+C14+C16+C15+C12 -> 5618.1367 | E5: =E6+E7+E8+E9+E10+E11+E13+E14+E16+E15+E12 -> 2175.3267 | G5: =G6+G7+G8+G9+G10+G11+G13+G14+G16+G15+G12 -> 5325.8514 | I5: =I6+I7+I8+I9+I10+I11+I13+I14+I16+I15+I12 -> 605.96247 | K5: =K6+K7+K8+K9+K10+K11+K13+K14+K16+K15+K12 -> 14686.047 | O5: 1 | P5: 2 | Q5: 3 | R5: 4 | S5: 5 | T5: 6 | AB5: in fact
A6: materiālu un aprīkojuma iegāde | B6: materials and equipment | C6: =2099.96+70.62-3.56-37.19+110.67 -> 2240.5 | D6: =C6+C7+C8 -> 2440.69 | E6: =58.92+74.16 -> 133.08 | F6: =E6+E7+E8 -> 228.62 | G6: =73.29+17.97-15.8+22.51+52.68+155.39-7.48-105.91-9.81+22.33+303.5+14.9+6.78+16.9+4.96+66.05+22.03+541.32+7.96+9 -> 1198.57 | H6: =G6+G7+G8 -> 1241.79 | I6: =48.86+51.43+4.73 -> 105.02 | J6: =I6+I7+I8 -> 105.02 | K6: =C6+E6+G6+I6 -> 3677.17 | L6: =K6+K7+K8 -> 4016.12 | O6: 0.2 | P6: 0.4 | Q6: 0.6 | R6: 0.8 | S6: 1 | Z6: =S6 -> 1
A7: materiālu piegādes izdevumi | B7: delivery | K7: =C7+E7+G7+I7 -> 0 | O7: 0.2 | P7: 0.4 | Q7: 0.6 | R7: 0.8 | S7: 1 | Z7: =S7 -> 1 | AB7: planned
A8: apakšuzņēmēji | B8: subcontractors | C8: 200.19 | E8: 95.54 | G8: 43.22 | K8: =C8+E8+G8+I8 -> 338.95 | T8: =AC11/AC10 -> 0 | Z8: =T8 -> 0 | AB8: in fact
A9: darba algas | B9: salaries | C9: =(9*84+10*66+105.4+8*12.4)*1.42 -> 2301.252 | D9: =C9+C10+C11+C13+C12 -> 3071.6467 | E9: =(313.5+99+289+263.07+55.02)*1.42 -> 1447.8178 | F9: =E9+E10+E11+E13+E12 -> 1932.5067 | G9: =(80*11+123.27*10)*1.42 -> 3000.034 | H9: =G9+G10+G11+G13+G12 -> 4004.3614 | I9: =23.25*11*1.42 -> 363.165 | J9: =I9+I10+I11+I13+I12 -> 484.74247 | K9: =C9+E9+G9+I9 -> 7112.2688 | L9: =K9+K10+K11+K13+K12 -> 10454.027
A10: DD VSAOI | B10: tax for salaries | C10: =C9*0.2359 -> 542.86535 | E10: =E9*0.2359 -> 341.54022 | G10: =G9*0.2359 -> 707.70802 | I10: =I9*0.2359 -> 85.670623 | K10: =C10+E10+G10+I10 -> 1677.7842 | AB10: Contract amount EUR | AC10: =14686.05*1.11-0.01 -> 16301.506
A11: uzkrājums atvaļinājumam | B11: vacation allowance | C11: =(C9+C10)*0.08 -> 227.52939 | E11: =(E9+E10)*0.08 -> 143.14864 | G11: =(G9+G10)*0.08 -> 296.61936 | I11: =(I9+I10)*0.08 -> 35.90685 | K11: =C11+E11+G11+I11 -> 703.20424 | AB11: Additional works, EUR
A12: administratīvie izdevumi 7% | B12: administrative costs 7% | K12: =13725.28*0.07 -> 960.7696
A13: komandējuma dienas naudas | B13: travel allowance | K13: =C13+E13+G13+I13 -> 0 | AB13: square m2
A14: komandējuma izdevumi- naktsmītne | B14: travel expenses (hotels) | D14: =C14+C16+C15 -> 105.8 | F14: =E14+E16+E15 -> 14.2 | H14: =G14+G16+G15 -> 79.7 | J14: =I14+I16+I15 -> 16.2 | K14: =C14+E14+G14+I14 -> 0 | L14: =K14+K16+K15 -> 215.9 | AB14: object square | AC14: hours optimal/ m2
A15: komandējuma izdevumi- ceļš | B15: travel expenses ( tickets, road costs) | K15: =C15+E15+G15+I15 -> 0 | AB15: m2<50 | AC15: 13
A16: citi izdevumi | B16: other expenses | C16: =105.8 -> 105.8 | E16: 14.2 | G16: =11.6+7.6+10.6+4.6+12.6+6.6+2.6+11.6+8.3+1.6+2 -> 79.7 | I16: =7.6+8.6 -> 16.2 | K16: =C16+E16+G16+I16 -> 215.9 | AB16: 50<m2<100 | AC16: 12
A17: peļņa bruto | B17: profit/ loss | C17: =C4-C5 -> -5618.1367 | D17: =C17/C4 -> #DIV/0! | E17: =E4-E5 -> -2175.3267 | F17: =E17/E4 -> #DIV/0! | G17: =G4-G5 -> -5325.8514 | H17: =G17/G4 -> #DIV/0! | I17: =I4-I5 -> -605.96247 | J17: =I17/I4 -> #DIV/0! | K17: =K4-K5 -> 1615.4586 | L17: =K17/K4 -> 0.09909874
N18: Object address | O18: materials and equipments costs | AB18: materials and equipment costs
A19: Direct costs | B19: % | N19: Time shedule, weeks | O19: 09/05-15/05 | P19: 16/05-22/05 | Q19: 23/05-29/05 | R19: 30/05-05/06 | S19: 06/06-12/06 | T19: =T4 -> 13/06-21/06 | Z19: total | AB19: planned
A20: Materials, incl.delivery, and subcontractors | B20: =L6/K5*100 -> 27.346501 | O20: 1 | P20: 2 | Q20: 3 | R20: 4 | S20: 5 | T20: 6 | AB20: in fact | AC20: =K6+K7 -> 3677.17
A21: Salaries and taxes | B21: =L9/K5*100 -> 71.183396 | O21: =Z21/5 -> 0 | P21: =O21 -> 0 | Q21: =O21 -> 0 | R21: =Q21 -> 0 | S21: =R21 -> 0 | Z21: =AC19 -> 0 | AB21: travel and living costs
A22: Other costs | B22: =L14/K5*100 -> 1.4701029 | Z22: =O22+P22+Q22+R22+S22+T22+Y22+U22+V22+W22+X22 -> 0 | AB22: planned | AC22: 0
AB23: in fact | AC23: 0
AB25: Subcontractors budget, EUR
AB26: Payments to subcontractor, EUR
AB30: date of report
AB31: 45397
A36: Unas darbs- transporta organizēšana, dokumentu kārtošana
A37: Kristapa darbs- preču pieņemšana, piegādes, būvgružu izvešana
A40: A9 | B40: Alberta iela
A41: Object costs | N41: KPI
C42: Marts | E42: Aprīlis | G42: Maijs | K42: Total | N42: Object address | O42: execution of contract | AB42: execution of the contract
A43: Objekta ieņēmumi kopā | B43: Budget total | C43: =AC49 -> 3000 | E43: =AC50 -> 4000 | K43: =C43+E43+G43+I43 -> 7000 | N43: Time shedule, weeks | O43: 09/05-15/05 | P43: 16/05-22/05 | Q43: 23/05-29/05 | R43: 30/05-05/06 | S43: 06/06-12/06 | T43: 13/06-21/06 | Z43: total | AB43: planned | AC43: =Z45 -> 1
A44: Objekta tiešie izdevumi | B44: Direct costs | C44: =C45+C46+C47+C48+C49+C50+C52+C53+C55+C54+C51 -> 7081.5553 | E44: =E45+E46+E47+E48+E49+E50+E52+E53+E55+E54+E51 -> 0 | G44: =G45+G46+G47+G48+G49+G50+G52+G53+G55+G54+G51 -> 727.83 | I44: =I45+I46+I47+I48+I49+I50+I52+I53+I55+I54+I51 -> 0 | K44: =K45+K46+K47+K48+K49+K50+K52+K53+K55+K54+K51 -> 7081.5553 | O44: 1 | P44: 2 | Q44: 3 | R44: 4 | S44: 5 | T44: 6 | AB44: in fact | AC44: =Z46+Z47 -> 2.3333333
A45: materiālu un aprīkojuma iegāde | B45: materials and equipment | C45: =102.24+293.46+131.91+10.02+208.98+20.18 -> 766.79 | D45: =C45+C46+C47 -> 2565.17 | F45: =E45+E46+E47 -> 0 | G45: =399.6+328.23 -> 727.83 | H45: =G45+G46+G47 -> 727.83 | J45: =I45+I46+I47 -> 0 | K45: =C45+E45 -> 766.79 | L45: =K45+K46+K47 -> 2565.17 | O45: 0.2 | P45: 0.4 | Q45: 0.6 | R45: 0.8 | S45: 1 | Z45: =S45 -> 1 | AB45: hours per m2
A46: materiālu piegādes izdevumi | B46: delivery | K46: =C46+E46 -> 0 | O46: 0.2 | P46: 0.4 | Q46: 0.6 | R46: 0.8 | S46: 1 | Z46: =S46 -> 1 | AB46: planned | AC46: 0
A47: apakšuzņēmēji | B47: subcontractors | C47: =343.49+220.66+357.14+345.77+131.94+199.69*2 -> 1798.38 | K47: =C47+E47 -> 1798.38 | T47: =AC50/AC49 -> 1.3333333 | Z47: =T47 -> 1.3333333 | AB47: in fact | AC47: 0
A48: darba algas | B48: salaries | C48: =390+780/2+(50*11+100*10)*1.42 -> 2981 | D48: =C48+C49+C50+C52+C51 -> 4188.9553 | F48: =E48+E49+E50+E52+E51 -> 0 | H48: =G48+G49+G50+G52+G51 -> 0 | J48: =I48+I49+I50+I52+I51 -> 0 | K48: =C48+E48 -> 2981 | L48: =K48+K49+K50+K52+K51 -> 4188.9553
A49: DD VSAOI | B49: tax for salaries | C49: =C48*0.2359 -> 703.2179 | E49: =E48*0.2359 -> 0 | G49: =G48*0.2359 -> 0 | I49: =I48*0.2359 -> 0 | K49: =C49+E49 -> 703.2179 | AB49: Contract amount EUR | AC49: 3000
A50: uzkrājums atvaļinājumam | B50: vacation allowance | C50: =(C48+C49)*0.08 -> 294.73743 | E50: =(E48+E49)*0.08 -> 0 | G50: =(G48+G49)*0.08 -> 0 | I50: =(I48+I49)*0.08 -> 0 | K50: =C50+E50 -> 294.73743 | AB50: Additional works, EUR | AC50: 4000
...

Sheet SPICE
A1: SPICE | B1: Rīga, 21/10-?
A2: Object costs
C3: Oktobris | G3: Total | J3: General data | M3: worked hours
A4: Objekta ieņēmumi kopā | B4: Budget total | C4: =K4 -> 4728.19 | G4: =E4+C4 -> 4728.19 | J4: Contract amount EUR | K4: 4728.19 | W4: total
A5: Objekta tiešie izdevumi | B5: Direct costs | C5: =C6+C7+C8+C9+C10+C11+C13+C14+C17+C15+C12 -> 2195.653 | E5: =E6+E7+E8+E9+E10+E11+E13+E14+E17+E15+E12 -> 0 | G5: =G6+G7+G8+G9+G10+G11+G13+G14+G17+G15+G12+G18 -> 2195.653 | J5: Additional works, EUR | M5: 1 | N5: 2 | O5: 3 | P5: 4 | Q5: 5 | R5: 6 | S5: 7 | T5: 8 | U5: 9 | V5: 10
A6: materiālu un aprīkojuma iegāde | B6: materials and equipment | C6: =89.12+8.69 -> 97.81 | D6: =C6+C7+C8 -> 97.81 | F6: =E6+E7+E8 -> 0 | G6: =C6+E6 -> 97.81 | H6: =G6+G7+G8 -> 97.81 | J6: square m2 | M6: =W6/4 -> 0 | N6: =M6 -> 0 | O6: =M6 -> 0 | P6: =M6 -> 0 | Q6: =M6 -> 0
A7: materiālu piegādes izdevumi | B7: delivery | G7: =C7+E7 -> 0 | J7: object square | K7: hours optimal/ m2 | M7: =16.4+14.5+14 -> 44.9 | W7: =M7+N7+O7+P7+Q7+R7+S7+T7+U7+V7 -> 44.9
A8: apakšuzņēmēji | B8: subcontractors | C8: =D40 -> 0 | G8: =C8+E8 -> 0 | J8: m2<50 | K8: 13
A9: darba algas | B9: salaries | C9: =313.11+331.57+33.57*10*1.42+28.5*5*1.42 -> 1323.724 | D9: =C9+C10+C11+C13+C12 -> 2097.843 | F9: =E9+E10+E11+E13+E12 -> 0 | G9: =C9+E9 -> 1323.724 | H9: =G9+G10+G11+G13+G12 -> 2097.843 | J9: 50<m2<100 | K9: 12
A10: DD VSAOI | B10: tax for salaries | C10: =C9*0.2359 -> 312.26649 | E10: =E9*0.2359 -> 0 | G10: =C10+E10 -> 312.26649
A11: uzkrājums atvaļinājumam | B11: vacation allowance | C11: =(C9+C10)*0.08 -> 130.87924 | E11: =(E9+E10)*0.08 -> 0 | G11: =C11+E11 -> 130.87924 | J11: materials and equipment costs
A12: administratīvie izdevumi 7% | B12: administrative costs 7% | C12: =(C4)*0.07 -> 330.9733 | E12: =(E4)*0.07 -> 0 | G12: =C12+E12 -> 330.9733 | J12: planned
A13: komandējuma dienas naudas | B13: travel allowance | G13: =C13+E13 -> 0 | J13: in fact
A14: komandējuma izdevumi- naktsmītne | B14: travel expenses (hotels) | D14: =C14+C17+C15 -> 0 | F14: =E14+E17+E15 -> 0 | G14: =C14+E14 -> 0 | H14: =G14+G17+G15+G18 -> 0
A15: komandējuma izdevumi- ceļš | B15: travel expenses ( tickets, road costs) | G15: =C15+E15 -> 0 | J15: Salaries and taxes
A16: komandējuma izdevumi (administrācija) | B16: travel expenses (administration) | G16: =C16+E16 -> 0 | J16: planned
A17: citi izdevumi | B17: other expenses | G17: =C17+E17 -> 0 | J17: in fact | K17: =H9-G12 -> 1766.8697
J18: hours cost in fact | K18: =K17/W7 -> 39.351219 | M18: travel and living costs
A19: peļņa bruto | B19: profit/ loss | C19: =C4-C5 -> 2532.537 | D19: =C19/C4 -> 0.53562504 | E19: =E4-E5 -> 0 | F19: =E19/E4 -> #DIV/0! | G19: =G4-G5 -> 2532.537 | H19: =G19/G4 -> 0.53562504 | W19: total
A20: plānotā peļņa | B20: planned profit | H20: =G20/K4 -> 0 | J20: hours per m2 | M20: 1 | N20: 2 | O20: 3 | P20: 4 | Q20: 5 | R20: 6 | S20: 7 | T20: 8 | U20: 9 | V20: 10
J21: planned | K21: =W6/K6 -> #DIV/0! | M21: =W21/4 -> 0 | N21: =M21 -> 0 | O21: =M21 -> 0 | P21: =M21 -> 0 | Q21: =M21 -> 0 | W21: =K26 -> 0
A22: Direct costs | B22: actual costs | C22: planned costs | J22: in fact | K22: =W7/K6 -> #DIV/0! | M22: =C14+C15 -> 0 | W22: =M22+N22+O22+P22+Q22+R22+S22+T22+U22+V22 -> 0
A23: Materials, incl.delivery, and subcontractors | B23: =H6/G5 -> 0.044547111 | J23: m2 costs | K23: =K22*K18 -> #DIV/0!
A24: Salaries and taxes | B24: =H9/G5 -> 0.95545289
A25: Other costs | B25: =H14/G5 -> 0 | J25: travel and living costs
J26: planned
J27: in fact | K27: =G14+G15 -> 0
J28: living costs per worked hour | K28: =G14/W7 -> 0
J30: Subcontractors budget, EUR
J31: Payments to subcontractor, EUR | K31: =G8 -> 0
J33: date of report
J34: 45586

Sheet HAM
A1: HAM | B1: Calzedonia store Phoenix Center, Hannoversche Str. 86, 21079 , Hamburg, Germania 1/10/2024-(22/10/2024) 12/11/2024
A2: Object costs
C3: Oktobris | E3: Novembris | G3: Total | J3: General data | M3: worked hours
A4: Objekta ieņēmumi kopā | B4: Budget total | C4: =K4 -> 57000 | E4: =K5 -> 7030.01 | G4: =E4+C4 -> 64030.01 | J4: Contract amount EUR | K4: 57000 | M4: 1/10-6/10 | N4: 7/10-13/10 | O4: 14/10-20/10 | P4: 21/10-22/10 | Q4: 31/10-10/11 | R4: 11/11/-12/11 | W4: total
A5: Objekta tiešie izdevumi | B5: Direct costs | C5: =C6+C7+C8+C9+C10+C11+C13+C14+C17+C15+C12 -> 22113.31 | E5: =E6+E7+E8+E9+E10+E11+E13+E14+E17+E15+E12 -> 29621.635 | G5: =G6+G7+G8+G9+G10+G11+G13+G14+G17+G15+G12+G18 -> 51734.944 | J5: Additional works, EUR | K5: 7030.01 | M5: 1 | N5: 2 | O5: 3 | P5: 4 | Q5: 5 | R5: 6 | S5: 7 | T5: 8 | U5: 9 | V5: 10
A6: materiālu un aprīkojuma iegāde | B6: materials and equipment | C6: =C39+1847.48+395.57+1349.81+30.95+24.95+7.3+127.43+598.08+305.25+6.75+15.8+33.92+3.88+144.22+129.45+10.8+60.5+24.6+136.6+5.4+263.93+233.22+13.6 -> 5769.49 | D6: =C6+C7+C8 -> 7239.49 | E6: =34.2+50.83+52+74.61+25.5+15.95+14+5.3+29.6+72.38+7+40+47.27 -> 468.64 | F6: =E6+E7+E8 -> 19542.49 | G6: =C6+E6 -> 6238.13 | H6: =G6+G7+G8 -> 26781.98 | J6: square m2 | K6: =50.07+0.52 -> 50.59 | M6: =W6/4 -> 123.9925 | N6: =M6 -> 123.9925 | O6: =M6 -> 123.9925 | P6: =M6 -> 123.9925 | Q6: =M6 -> 123.9925 | W6: 495.97
A7: materiālu piegādes izdevumi | B7: delivery | C7: =370+1100 -> 1470 | G7: =C7+E7 -> 1470 | J7: object square | K7: hours optimal/ m2 | M7: =48.73 -> 48.73 | N7: =36.8+109.23 -> 146.03 | O7: =42+5.59 -> 47.59 | Q7: 233 | W7: =M7+N7+O7+P7+Q7+R7+S7+T7+U7+V7 -> 475.35
A8: apakšuzņēmēji | B8: subcontractors | C8: =D40 -> 0 | E8: =2400+2871.28+814.83+411.99+12575.75 -> 19073.85 | G8: =C8+E8 -> 19073.85 | J8: m2<50 | K8: 13
A9: darba algas | B9: salaries | C9: =1561.6*1.42+((163.55*15-C13)*1.42) -> 2222.087 | D9: =C9+C10+C11+C13+C12 -> 9405.9795 | E9: =(1296.33+661.75+600)*1.42 -> 3632.4736 | F9: =E9+E10+E11+E13+E12 -> 7440.6248 | G9: =C9+E9 -> 5854.5606 | H9: =G9+G10+G11+G13+G12 -> 16846.604 | J9: 50<m2<100 | K9: 12
A10: DD VSAOI | B10: tax for salaries | C10: =C9*0.2359 -> 524.19032 | E10: =E9*0.2359 -> 856.90052 | G10: =C10+E10 -> 1381.0908
A11: uzkrājums atvaļinājumam | B11: vacation allowance | C11: =(C9+C10)*0.08 -> 219.70219 | E11: =(E9+E10)*0.08 -> 359.14993 | G11: =C11+E11 -> 578.85212 | J11: materials and equipment costs
A12: administratīvie izdevumi 7% | B12: administrative costs 7% | C12: =(C4)*0.07 -> 3990 | E12: =(E4)*0.07 -> 492.1007 | G12: =C12+E12 -> 4482.1007 | J12: planned | K12: 7013.12
A13: komandējuma dienas naudas | B13: travel allowance | C13: =400+41*50 -> 2450 | E13: =500*4+100 -> 2100 | G13: =C13+E13 -> 4550 | J13: in fact | K13: =G6+G7 -> 7708.13
A14: komandējuma izdevumi- naktsmītne | B14: travel expenses (hotels) | C14: 2520 | D14: =C14+C17+C15 -> 5467.84 | E14: =1044+116+40+240.48 -> 1440.48 | F14: =E14+E17+E15 -> 2638.52 | G14: =C14+E14 -> 3960.48 | H14: =G14+G17+G15+G18 -> 8106.36
A15: komandējuma izdevumi- ceļš | B15: travel expenses ( tickets, road costs) | C15: =125.99+194.98+546.6+593.5 -> 1461.07 | E15: =215.99+308.92 -> 524.91 | G15: =C15+E15 -> 1985.98 | J15: Salaries and taxes
A16: komandējuma izdevumi (administrācija) | B16: travel expenses (administration) | G16: =C16+E16 -> 0 | J16: planned | K16: 12399.33
A17: citi izdevumi | B17: other expenses | C17: =125+187.13+9+14*9+253.25+786.39 -> 1486.77 | E17: =14+4+14+14+14+14+61.4+14+14+14+82.59+413.14 -> 673.13 | G17: =C17+E17 -> 2159.9 | J17: in fact | K17: =H9-G12 -> 12364.504
J18: hours cost in fact | K18: =K17/W7 -> 26.011368 | M18: travel and living costs
A19: peļņa bruto | B19: profit/ loss | C19: =C4-C5 -> 34886.69 | D19: =C19/C4 -> 0.6120472 | E19: =E4-E5 -> -22591.625 | F19: =E19/E4 -> -3.2135978 | G19: =G4-G5 -> 12295.066 | H19: =G19/G4 -> 0.19202036 | M19: 1/10-6/10 | N19: 7/10-13/10 | O19: 14/10-20/10 | P19: 21/10-22/10 | Q19: 31/10-10/11 | R19: 11/11/-12/11 | W19: total
A20: plānotā peļņa | B20: planned profit | G20: =K4-46240.38 -> 10759.62 | H20: =G20/K4 -> 0.18876526 | J20: hours per m2 | M20: 1 | N20: 2 | O20: 3 | P20: 4 | Q20: 5 | R20: 6 | S20: 7 | T20: 8 | U20: 9 | V20: 10
J21: planned | K21: =W6/K6 -> 9.8037161 | M21: =W21/4 -> 1625 | N21: =M21 -> 1625 | O21: =M21 -> 1625 | P21: =M21 -> 1625 | W21: =K26 -> 6500
A22: Direct costs | B22: actual costs | C22: planned costs | J22: in fact | K22: =W7/K6 -> 9.3961257 | M22: 2841 | O22: 546.6 | P22: 593.5 | Q22: =1160+308.92+40 -> 1508.92 | R22: =215.99+240.48 -> 456.47 | W22: =M22+N22+O22+P22+Q22+R22+S22+T22+U22+V22 -> 5946.49
A23: Materials, incl.delivery, and subcontractors | B23: =H6/G5 -> 0.51767679 | C23: =(7013.12)/46240.38 -> 0.15166657 | J23: m2 costs | K23: =K22*K18 -> 244.40608
A24: Salaries and taxes | B24: =H9/G5 -> 0.32563298 | C24: =12399.33/46240.38 -> 0.2681494
A25: Other costs | B25: =H14/G5 -> 0.15669022 | C25: =26827.92/46240.38 -> 0.58018381 | J25: travel and living costs
J26: planned | K26: 6500
J27: in fact | K27: =G14+G15 -> 5946.46
J28: living costs per worked hour | K28: =G14/W7 -> 8.3317135
J30: Subcontractors budget, EUR
J31: Payments to subcontractor, EUR | K31: =G8 -> 19073.85
J33: date of report
J34: 45638

Sheet BERG
A1: BERG | B1: Calzedonia and Intimissimi Hauptstraße 152, 51465 Bergisch Gladbach, Germany 25/09/2024-(22/10/2024) 9/11/2024
A2: Object costs
C3: Septembris | E3: Oktobris | G3: Novembris | I3: Total | L3: General data | O3: worked hours
A4: Objekta ieņēmumi kopā | B4: Budget total | C4: =M4/4 -> 17875 | E4: =M4/4*3 -> 53625 | G4: =M5 -> 17228.25 | I4: =E4+C4+G4 -> 88728.25 | L4: Contract amount EUR | M4: =31000+40500 -> 71500 | O4: 25/09-29/09 | P4: 30/09-06/10 | Q4: 07/10-13/10 | R4: 14/10-20/10 | S4: 21/10-27/10 | T4: 28/10- | Y4: total
A5: Objekta tiešie izdevumi | B5: Direct costs | C5: =C6+C7+C8+C9+C10+C11+C13+C14+C17+C15+C12 -> 23294.582 | E5: =E6+E7+E8+E9+E10+E11+E13+E14+E17+E15+E12 -> 35381.728 | G5: =G6+G7+G8+G9+G10+G11+G13+G14+G17+G15+G12 -> 8473.6467 | I5: =I6+I7+I8+I9+I10+I11+I13+I14+I17+I15+I12+I18 -> 65943.979 | L5: Additional works, EUR | M5: =9908.43+7863.01-543.19 -> 17228.25 | O5: 1 | P5: 2 | Q5: 3 | R5: 4 | S5: 5 | T5: 6 | U5: 7 | V5: 8 | W5: 9 | X5: 10
A6: materiālu un aprīkojuma iegāde | B6: materials and equipment | C6: =C38+566.67+350.03+484.96+3881.69+491.65+238.29+160.22+39.39+59.47+1378.82+224.18+7.44+88.75+67.53+255.48+90.9+442.73 -> 8828.2 | D6: =C6+C7+C8 -> 10577.18 | E6: =118+104.7+146.58+194.59+16.8+62.82+67.5+17.46+25.7+93.8+206.8+331.93+59.95+30.78+23.25+57.46+31.99+53.37+162.83+46.05+17.4+99.45+57.88+140.94+568.34+10.3+500.95+1062.12+2.95+58.45+32.3+103.05+96 -> 4602.49 | F6: =E6+E7+E8 -> 7112.06 | G6: =24.98+174.93+26.76+36.95+57.49+5.55+96.33 -> 422.99 | H6: =G6+G7+G8 -> 2405.86 | I6: =C6+E6+G6 -> 13853.68 | J6: =I6+I7+I8 -> 20095.1 | L6: square m2 | M6: =41+8.92+46.59+15.07 -> 111.58 | O6: =Y6/4 -> 248.18 | P6: =O6 -> 248.18 | Q6: =O6 -> 248.18 | R6: =O6 -> 248.18 | S6: =O6 -> 248.18 | Y6: =398+594.72 -> 992.72
A7: materiālu piegādes izdevumi | B7: delivery | C7: 1450 | E7: =870+550+730+180 -> 2330 | G7: 151.58 | I7: =C7+E7+G7 -> 3931.58 | L7: object square | M7: hours optimal/ m2 | O7: 159.67 | P7: =54.03+28.32+40.37-6.5+157.72 -> 273.94 | Q7: =47.47+56.07+194.66 -> 298.2 | R7: =20.7+44.7+221.68 -> 287.08 | S7: 170.52 | T7: =64.63+67.68+69.37 -> 201.68 | Y7: =O7+P7+Q7+R7+S7+T7+U7+V7+W7+X7 -> 1391.09
A8: apakšuzņēmēji | B8: subcontractors | C8: =319.98/2+138.99 -> 298.98 | E8: 179.57 | G8: =1478.14+107.74+245.41 -> 1831.29 | I8: =C8+E8+G8 -> 2309.84 | L8: m2<50 | M8: 13
A9: darba algas | B9: salaries | C9: =((30.72*15+38.55*14.5+47.43*13+97*13)-C13)*1.42 -> 1416.2583 | D9: =C9+C10+C11+C13+C12 -> 5041.6319 | E9: =(106.48+834.82+1063.11+1179.22+1686.47+1939.75)*1.42 -> 9669.987 | F9: =E9+E10+E11+E13+E12 -> 23910.978 | G9: =(581.36+540.55+100)*1.42 -> 1735.1122 | H9: =G9+G10+G11+G13+G12 -> 4521.9567 | I9: =C9+E9+G9 -> 12821.357 | J9: =I9+I10+I11+I13+I12 -> 32268.589 | L9: 50<m2<100 | M9: 12
A10: DD VSAOI | B10: tax for salaries | C10: =C9*0.2359 -> 334.09533 | E10: =E9*0.2359 -> 2281.1499 | G10: =G9*0.2359 -> 409.31297 | I10: =C10+E10+G10 -> 3024.5582
A11: uzkrājums atvaļinājumam | B11: vacation allowance | C11: =(C9+C10)*0.08 -> 140.02829 | E11: =(E9+E10)*0.08 -> 956.09095 | G11: =(G9+G10)*0.08 -> 171.55401 | I11: =C11+E11+G11 -> 1267.6733 | L11: materials and equipment costs
A12: administratīvie izdevumi 7% | B12: administrative costs 7% | C12: =(C4)*0.07 -> 1251.25 | E12: =(E4)*0.07 -> 3753.75 | G12: =(G4)*0.07 -> 1205.9775 | I12: =C12+E12 -> 5005 | L12: planned | M12: =5803.46+7075.73 -> 12879.19
A13: komandējuma dienas naudas | B13: travel allowance | C13: =(4*7+10)*50 -> 1900 | E13: =900+21*50+2*25*50+28*2*50 -> 7250 | G13: 1000 | I13: =C13+E13+G13 -> 10150 | L13: in fact | M13: =I6+I7 -> 17785.26
A14: komandējuma izdevumi- naktsmītne | B14: travel expenses (hotels) | C14: 5390.63 | D14: =C14+C17+C15 -> 7675.77 | E14: 1122.84 | F14: =E14+E17+E15 -> 4358.69 | G14: =336.45+151 -> 487.45 | H14: =G14+G17+G15 -> 1545.83 | I14: =C14+E14+G14 -> 7000.92 | J14: =I14+I17+I15+I18 -> 13580.29
A15: komandējuma izdevumi- ceļš | B15: travel expenses ( tickets, road costs) | C15: =279.98+837.97 -> 1117.95 | E15: =109.35+148.3+699.98 -> 957.63 | G15: =544.3+8 -> 552.3 | I15: =C15+E15+G15 -> 2627.88 | L15: Salaries and taxes
A16: komandējuma izdevumi (administrācija) | B16: travel expenses (administration) | C16: =319.98/2+34.99+22.27+3.69+22.64+18.22+19+218+152+23.5+3+21.4+34.14+150+276.28+208.69+99.97 -> 1467.78 | E16: 53 | I16: =C16+E16+G16 -> 1520.78 | L16: planned | M16: =9465.28+13741.35 -> 23206.63
A17: citi izdevumi | B17: other expenses | C17: =25+226.55+3.2+15.56+6.89+6.41+99.76+8.62+5.75*2+125+79.6+167.1+392 -> 1167.19 | E17: =12.49+10+110.78+25.1+2+229.75+1888.1 -> 2278.22 | G17: =47.4+36.3+78.29+133.9+210.19 -> 506.08 | I17: =C17+E17+G17 -> 3951.49 | L17: in fact | M17: =J9-I12 -> 27263.589
L18: hours cost in fact | M18: =M17/Y7 -> 19.598724 | O18: travel and living costs
A19: peļņa bruto | B19: profit/ loss | C19: =C4-C5 -> -5419.5819 | D19: =C19/C4 -> -0.30319339 | E19: =E4-E5 -> 18243.272 | F19: =E19/E4 -> 0.34020088 | G19: =G4-G5 -> 8754.6033 | H19: =G19/G4 -> 0.50815395 | I19: =I4-I5 -> 22784.271 | J19: =I19/I4 -> 0.25678711 | O19: 25/09-29/09 | P19: 30/09-06/10 | Q19: 07/10-13/10 | R19: 14/10-20/10 | S19: 21/10-27/10 | T19: 28/10- | Y19: total
A20: plānotā peļņa | B20: planned profit | I20: =M4-23477.28-30628.18 -> 17394.54 | J20: =I20/M4 -> 0.24328028 | L20: hours per m2 | O20: 1 | P20: 2 | Q20: 3 | R20: 4 | S20: 5 | T20: 6 | U20: 7 | V20: 8 | W20: 9 | X20: 10
L21: planned | M21: =Y6/M6 -> 8.8969349 | O21: =Y21/4 -> 1800 | P21: =O21 -> 1800 | Q21: =O21 -> 1800 | R21: =O21 -> 1800 | S21: =O21 -> 1800 | Y21: =M26 -> 7200
A22: Direct costs | B22: actual costs | C22: planned costs | L22: in fact | M22: =Y7/M6 -> 12.467198 | O22: =C14+C15 -> 6508.58 | P22: 1232 | R22: 148.3 | S22: 699.98 | T22: =336.45+544.3+8+151 -> 1039.75 | Y22: =O22+P22+Q22+R22+S22+T22+U22+V22+W22+X22 -> 9628.61
A23: Materials, incl.delivery, and subcontractors | B23: =J6/I5 -> 0.30472987 | C23: =(M12)/54105.46 -> 0.23803864 | L23: m2 costs | M23: =M22*M18 -> 244.34118
A24: Salaries and taxes | B24: =J9/I5 -> 0.48933336 | C24: =(M16)/54105.46 -> 0.42891475
A25: Other costs | B25: =J14/I5 -> 0.20593677 | C25: =(7946.33+9811.1)/54105.46 -> 0.32820033 | L25: travel and living costs
L26: planned | M26: =3000+4200 -> 7200
L27: in fact | M27: =I14+I15 -> 9628.8
L28: living costs per worked hour | M28: =I14/Y7 -> 5.0326866
L30: Subcontractors budget, EUR
L31: Payments to subcontractor, EUR | M31: =I8 -> 2309.84
L33: date of report
L34: 45636
B38: avansi | C38: =C39+C40 -> 0

Sheet WIE2
A1: WIE2 | B1: Calzedonia Mariahilfer Str. 88, 1070 Wien, Austria 16/09-09/10
A2: Object costs
C3: Septembris | E3: Oktobris | G3: Total | J3: General data | M3: worked hours
A4: Objekta ieņēmumi kopā | B4: Budget total | C4: =K4/2 -> 41500 | E4: =K4/2 -> 41500 | G4: =E4+C4 -> 83000 | J4: Contract amount EUR | K4: 83000 | M4: 16/09-22/09 | N4: 23/09-29/09 | O4: 30/09-6/10 | P4: 7/10-9/10 | W4: total
A5: Objekta tiešie izdevumi | B5: Direct costs | C5: =C6+C7+C8+C9+C10+C11+C13+C14+C17+C15+C12 -> 26783.316 | E5: =E6+E7+E8+E9+E10+E11+E13+E14+E17+E15+E12 -> 33270.915 | G5: =G6+G7+G8+G9+G10+G11+G13+G14+G17+G15+G12+G18 -> 60054.231 | J5: Additional works, EUR | M5: 1 | N5: 2 | O5: 3 | P5: 4 | Q5: 5 | R5: 6 | S5: 7 | T5: 8 | U5: 9 | V5: 10
A6: materiālu un aprīkojuma iegāde | B6: materials and equipment | C6: =1774.01+198.91+193.28+238.59+1848.36+101.7+79.78+260.47+103.44+159.4+131.79+191.03 -> 5280.76 | D6: =C6+C7+C8 -> 7498.81 | E6: =121.42+40.74+21.47+18.98+33.8+233.43+14.95+20.88+23.99+257.85 -> 787.51 | F6: =E6+E7+E8 -> 19686.35 | G6: =C6+E6 -> 6068.27 | H6: =G6+G7+G8 -> 27185.16 | J6: square m2 | K6: =66.3+16.03 -> 82.33 | M6: =W6/4 -> 206.5 | N6: =M6 -> 206.5 | O6: =M6 -> 206.5 | P6: =M6 -> 206.5 | Q6: =M6 -> 206.5 | W6: 826
A7: materiālu piegādes izdevumi | B7: delivery | C7: =950+790 -> 1740 | E7: =220+250.94 -> 470.94 | G7: =C7+E7 -> 2210.94 | J7: object square | K7: hours optimal/ m2 | M7: =213.9+54.22 -> 268.12 | N7: =213+59.2 -> 272.2 | O7: =38.5+9.67+22+48.93+116+8.87 -> 243.97 | P7: =56.88 -> 56.88 | W7: =M7+N7+O7+P7+Q7+R7+S7+T7+U7+V7 -> 841.17
A8: apakšuzņēmēji | B8: subcontractors | C8: 478.05 | E8: =2822.9+956.1+478.05+12120.85+797+1253 -> 18427.9 | G8: =C8+E8 -> 18905.95 | J8: m2<50 | K8: 13
A9: darba algas | B9: salaries | C9: =((123.08*16+9.53*15+236.03*14.5+101.55*14+118.37*13.5)-C13)*1.42 -> 6467.1912 | D9: =C9+C10+C11+C13+C12 -> 15537.226 | E9: =(352+685.02+2581.5+250+128.61-E13)*1.42 -> 2693.9246 | F9: =E9+E10+E11+E13+E12 -> 8600.7751 | G9: =C9+E9 -> 9161.1158 | H9: =G9+G10+G11+G13+G12 -> 24138.001 | J9: 50<m2<100 | K9: 12
A10: DD VSAOI | B10: tax for salaries | C10: =C9*0.2359 -> 1525.6104 | E10: =E9*0.2359 -> 635.49681 | G10: =C10+E10 -> 2161.1072
A11: uzkrājums atvaļinājumam | B11: vacation allowance | C11: =(C9+C10)*0.08 -> 639.42413 | E11: =(E9+E10)*0.08 -> 266.35371 | G11: =C11+E11 -> 905.77784 | J11: materials and equipment costs
A12: administratīvie izdevumi 7% | B12: administrative costs 7% | C12: =(C4)*0.07 -> 2905 | E12: =(E4)*0.07 -> 2905 | G12: =C12+E12 -> 5810 | J12: planned | K12: 8093.49
A13: komandējuma dienas naudas | B13: travel allowance | C13: =(5*15+3-2+4)*50 -> 4000 | E13: =150+50*7+400+1200 -> 2100 | G13: =C13+E13 -> 6100 | J13: in fact | K13: =G6+G7 -> 8279.21
A14: komandējuma izdevumi- naktsmītne | B14: travel expenses (hotels) | C14: =2339.08 -> 2339.08 | D14: =C14+C17+C15 -> 3747.28 | E14: =80+95 -> 175 | F14: =E14+E17+E15 -> 4983.79 | G14: =C14+E14 -> 2514.08 | H14: =G14+G17+G15+G18 -> 8731.07
A15: komandējuma izdevumi- ceļš | B15: travel expenses ( tickets, road costs) | C15: =232.99+466.45+70.23+111.72 -> 881.39 | E15: =66.81+117.71 -> 184.52 | G15: =C15+E15 -> 1065.91 | J15: Salaries and taxes
A16: komandējuma izdevumi (administrācija) | B16: travel expenses (administration) | C16: 60.48 | E16: =113.79+27.9+60+27+43.2+19.91+42.36+22.36+20.09+392.51+35.47 -> 804.59 | G16: =C16+E16 -> 865.07 | J16: planned | K16: 20641.85
A17: citi izdevumi | B17: other expenses | C17: =125+253.31+11.55+11.57+88.85+25+11.53 -> 526.81 | E17: =11.53+11.49+93.08+9+152+156+232.38+125+2559.12+1274.67 -> 4624.27 | G17: =C17+E17 -> 5151.08 | J17: in fact | K17: =H9-G12 -> 18328.001
J18: hours cost in fact | K18: =K17/W7 -> 21.7887 | M18: travel and living costs
A19: peļņa bruto | B19: profit/ loss | C19: =C4-C5 -> 14716.684 | D19: =C19/C4 -> 0.3546189 | E19: =E4-E5 -> 8229.0849 | F19: =E19/E4 -> 0.1982912 | G19: =G4-G5 -> 22945.769 | H19: =G19/G4 -> 0.27645505 | M19: 16/09-22/09 | N19: 23/09-29/09 | O19: 30/09-6/10 | P19: 7/10-9/10 | W19: total
A20: plānotā peļņa | B20: planned profit | G20: =K4-61896.21 -> 21103.79 | H20: =G20/K4 -> 0.25426253 | J20: hours per m2 | M20: 1 | N20: 2 | O20: 3 | P20: 4 | Q20: 5 | R20: 6 | S20: 7 | T20: 8 | U20: 9 | V20: 10
J21: planned | K21: =W6/K6 -> 10.032795 | M21: =W21/4 -> 1687.5 | N21: =M21 -> 1687.5 | O21: =M21 -> 1687.5 | P21: =M21 -> 1687.5 | Q21: =M21 -> 1687.5 | W21: =K26 -> 6750
A22: Direct costs | B22: actual costs | C22: planned costs | J22: in fact | K22: =W7/K6 -> 10.217053 | M22: =C14+C15 -> 3220.47 | O22: =80+66.81 -> 146.81 | P22: =117.71+95 -> 212.71 | W22: =M22+N22+O22+P22+Q22+R22+S22+T22+U22+V22 -> 3579.99
A23: Materials, incl.delivery, and subcontractors | B23: =H6/G5 -> 0.45267685 | C23: =(8093.49)/61896.21 -> 0.13075906 | J23: m2 costs | K23: =K22*K18 -> 222.61631
A24: Salaries and taxes | B24: =H9/G5 -> 0.40193672 | C24: =20641.85/61896.21 -> 0.33349134
A25: Other costs | B25: =H14/G5 -> 0.14538643 | C25: =23685.87/61896.21 -> 0.38267076 | J25: travel and living costs
J26: planned | K26: 6750
J27: in fact | K27: =G14+G15 -> 3579.99
J28: living costs per worked hour | K28: =G14/W7 -> 2.9887894
J30: Subcontractors budget, EUR
J31: Payments to subcontractor, EUR | K31: =G8 -> 18905.95
J33: date of report
J34: 45691

Sheet MUN
A1: MUN | B1: Calzedonia and Intimissimi SC Riem Arcaden Willy-Brandt-Platz 5, 81829 München, Germany 19/08-16/09
A2: Object costs
C3: Augusts | E3: Septembris | G3: Total | J3: General data | M3: worked hours
A4: Objekta ieņēmumi kopā | B4: Budget total | C4: =K4/2 -> 44912.735 | E4: =C4+K5 -> 47616.275 | G4: =E4+C4 -> 92529.01 | J4: Contract amount EUR | K4: =F43+F44 -> 89825.47 | M4: 19/08-25/08 | N4: 26/08-01/09 | O4: 2/09-8/09 | P4: 09/08-16/09 | W4: total
A5: Objekta tiešie izdevumi | B5: Direct costs | C5: =C6+C7+C8+C9+C10+C11+C13+C14+C17+C15+C12 -> 33523.523 | E5: =E6+E7+E8+E9+E10+E11+E13+E14+E17+E15+E12 -> 32200.254 | G5: =G6+G7+G8+G9+G10+G11+G13+G14+G17+G15+G12+G18 -> 65723.777 | J5: Additional works, EUR | K5: 2703.54 | M5: 1 | N5: 2 | O5: 3 | P5: 4 | Q5: 5 | R5: 6 | S5: 7 | T5: 8 | U5: 9 | V5: 10
A6: materiālu un aprīkojuma iegāde | B6: materials and equipment | C6: =D39+2284.76+114.07+317+615.63+133.67+94.81+80.9+12.96+32.15+309.35+239.14+220.72+839.25+118.4+212.87+6.48+78.72+54.99+490.55+49.8+3.95+122.02+66.9+117.3+41.95+173.3+149.11 -> 6980.75 | D6: =C6+C7+C8 -> 9330.75 | E6: =417.56+17.3+330.3+114.86+44.71+13.38+15.95+39.3+11.99+7.63+87.48+15.4+13.08+92.76+36.44+138.5+17.9+62.3+45.24+44.92+20.94+4.39+12.09+46.05+211.97+41.95+34.44+27.5-212.22+20.99+72.7+145.43+44.5 -> 2037.73 | F6: =E6+E7+E8 -> 15541.68 | G6: =C6+E6 -> 9018.48 | H6: =G6+G7+G8 -> 24872.43 | J6: square m2 | K6: =50.16+8.72+75.13+7.53 -> 141.54 | M6: =W6/5 -> 211.16 | N6: =M6 -> 211.16 | O6: =M6 -> 211.16 | P6: =M6 -> 211.16 | Q6: =M6 -> 211.16 | W6: =394.74+661.06 -> 1055.8
A7: materiālu piegādes izdevumi | B7: delivery | C7: 850 | E7: 850 | G7: =C7+E7 -> 1700 | J7: object square | K7: hours optimal/ m2 | M7: 337 | N7: 319 | O7: 271.8 | P7: 180.18 | W7: =M7+N7+O7+P7+Q7+R7+S7+T7+U7+V7 -> 1107.98
A8: apakšuzņēmēji | B8: subcontractors | C8: 1500 | E8: =4190.77+542.13+583.56+5295.33+1733.83+308.33 -> 12653.95 | G8: =C8+E8 -> 14153.95 | J8: m2<50 | K8: 13
A9: darba algas | B9: salaries | C9: =((1810.08+1948.95+1758.85+1735.76+6.5+847.86+1042.3+500)-C13)*1.42 -> 8165.426 | D9: =C9+C10+C11+C13+C12 -> 17942.873 | E9: =((113.92*13.5+113.62*13+7.78*13.5+114.1*14.5+102.57*15)-E13)*1.42 -> 3852.4742 | F9: =E9+E10+E11+E13+E12 -> 12075.314 | G9: =C9+E9 -> 12017.9 | H9: =G9+G10+G11+G13+G12 -> 30018.187 | J9: 50<m2<100 | K9: 12
A10: DD VSAOI | B10: tax for salaries | C10: =C9*0.2359 -> 1926.224 | E10: =E9*0.2359 -> 908.79866 | G10: =C10+E10 -> 2835.0227
A11: uzkrājums atvaļinājumam | B11: vacation allowance | C11: =(C9+C10)*0.08 -> 807.332 | E11: =(E9+E10)*0.08 -> 380.90183 | G11: =C11+E11 -> 1188.2338 | J11: materials and equipment costs
A12: administratīvie izdevumi 7% | B12: administrative costs 7% | C12: =(C4)*0.07 -> 3143.8915 | E12: =(E4)*0.07 -> 3333.1393 | G12: =C12+E12 -> 6477.0307 | J12: planned | K12: =4475.02+6479.72 -> 10954.74
A13: komandējuma dienas naudas | B13: travel allowance | C13: =6*13*50 -> 3900 | E13: =72*50 -> 3600 | G13: =C13+E13 -> 7500 | J13: in fact | K13: =G6+G7 -> 10718.48
A14: komandējuma izdevumi- naktsmītne | B14: travel expenses (hotels) | C14: =2520+540 -> 3060 | D14: =C14+C17+C15 -> 6249.9 | E14: =2700+28+167.4 -> 2895.4 | F14: =E14+E17+E15 -> 4583.26 | G14: =C14+E14 -> 5955.4 | H14: =G14+G17+G15+G18 -> 10833.16
A15: komandējuma izdevumi- ceļš | B15: travel expenses ( tickets, road costs) | C15: =191.92+333.67*2+416.98 -> 1276.24 | E15: 106.52 | G15: =C15+E15 -> 1382.76 | J15: Salaries and taxes
A16: komandējuma izdevumi (administrācija) | B16: travel expenses (administration) | C16: =346.99*2 -> 693.98 | E16: =21+21.4+10+19+291.53+5.99+19.5+575.1+206.99+184.99+23.32+45.92+236.64+23.6+1.9*4+13.6+18.2+353.9 -> 2078.28 | G16: =C16+E16 -> 2772.26 | J16: planned | K16: =10658.07+17832.33 -> 28490.4
A17: citi izdevumi | B17: other expenses | C17: =250.21+327.73+12+189.57+13.4+1120.75 -> 1913.66 | E17: =125+26.46+5+38+24+5+24.99+30+271.45+101.99+20.45+909 -> 1581.34 | G17: =C17+E17 -> 3495 | J17: in fact | K17: =H9-G12 -> 23541.157
J18: hours cost in fact | K18: =K17/W7 -> 21.246915 | M18: travel and living costs
A19: peļņa bruto | B19: profit/ loss | C19: =C4-C5 -> 11389.212 | D19: =C19/C4 -> 0.25358535 | E19: =E4-E5 -> 15416.021 | F19: =E19/E4 -> 0.32375529 | G19: =G4-G5 -> 26805.233 | H19: =G19/G4 -> 0.28969544 | M19: 19/08-25/08 | N19: 26/08-01/09 | O19: 2/09-8/09 | P19: 09/08-16/09 | W19: total
A20: plānotā peļņa | B20: planned profit | G20: =K4-27609-37391.69 -> 24824.78 | H20: =G20/K4 -> 0.27636683 | J20: hours per m2 | M20: 1 | N20: 2 | O20: 3 | P20: 4 | Q20: 5 | R20: 6 | S20: 7 | T20: 8 | U20: 9 | V20: 10
J21: planned | K21: =W6/K6 -> 7.4593754 | M21: =W21/5 -> 2000 | N21: =M21 -> 2000 | O21: =M21 -> 2000 | P21: =M21 -> 2000 | Q21: =M21 -> 2000 | W21: =K26 -> 10000
A22: Direct costs | B22: actual costs | C22: planned costs | J22: in fact | K22: =W7/K6 -> 7.8280345 | M22: =C14+C15 -> 4336.24 | N22: 2700 | O22: 106.52 | P22: =28+167.4 -> 195.4 | W22: =M22+N22+O22+P22+Q22+R22+S22+T22+U22+V22 -> 7338.16
A23: Materials, incl.delivery, and subcontractors | B23: =H6/G5 -> 0.37843884 | C23: =(4475.02+6479.72)/(27609+37391.69) -> 0.16853267 | J23: m2 costs | K23: =K22*K18 -> 166.32158
A24: Salaries and taxes | B24: =H9/G5 -> 0.45673253 | C24: =(10658.07+17832.33)/(27609+37391.69) -> 0.43830919
A25: Other costs | B25: =H14/G5 -> 0.16482863 | C25: =(12476.78+13063.44)/(27609+37391.69) -> 0.39292229 | J25: travel and living costs
J26: planned | K26: 10000
J27: in fact | K27: =G14+G15 -> 7338.16
J28: living costs per worked hour | K28: =G14/W7 -> 5.3750068
J30: Subcontractors budget, EUR
J31: Payments to subcontractor, EUR | K31: =G8 -> 14153.95
J33: date of report
J34: 45607
C38: avansi
C39: Riga Wood
C40: EL Support
C42: 0.3 | D42: 0.6 | E42: 0.1 | F42: KOPĀ
B43: 38864.31 | C43: =ROUND(B43*0.3,2) -> 11659.29 | D43: =ROUND(B43*0.6,2) -> 23318.59 | E43: =ROUND(B43*0.1,2) -> 3886.43 | F43: =C43+D43+E43 -> 38864.31 | G43: Calzedonia
B44: 50961.16 | C44: =ROUND(B44*0.3,2) -> 15288.35 | D44: =ROUND(B44*0.6,2) -> 30576.7 | E44: =ROUND(B44*0.1,2)-0.01 -> 5096.11 | F44: =C44+D44+E44 -> 50961.16 | G44: Intimissimi
D45: =SUM(D43:D44) -> 53895.29 | E45: =SUM(E43:E44) -> 8982.54

Sheet ING
A1: ING | B1: Calzedonia Am Westpark 6, 85057 Ingolstadt, Germany, 2/08/2024-22/08/2024
A2: Object costs
C3: Augusts | G3: Total | J3: General data | M3: worked hours
A4: Objekta ieņēmumi kopā | B4: Budget total | C4: =K4+K5 -> 62500 | G4: =E4+C4 -> 62500 | J4: Contract amount EUR | K4: 59000 | M4: 2/8-11/8 | N4: 12/08-18/08 | O4: 19/08-25/08 | Y4: total
A5: Objekta tiešie izdevumi | B5: Direct costs | C5: =C6+C7+C8+C9+C10+C11+C13+C14+C17+C15+C12 -> 55305.872 | E5: =E6+E7+E8+E9+E10+E11+E13+E14+E17+E15+E12 -> 0 | G5: =G6+G7+G8+G9+G10+G11+G13+G14+G17+G15+G12+G18 -> 55305.872 | J5: Additional works, EUR | K5: 3500 | M5: 1 | N5: 2 | O5: 3 | P5: 4 | R5: 5 | S5: 6 | T5: 7 | U5: 8 | V5: 9 | W5: 10 | X5: 11
A6: materiālu un aprīkojuma iegāde | B6: materials and equipment | C6: =1788.53+124.45+225.42+110.55+145+38.49+212.65+587.33+541.51+135.29+166.45+37.55+13.7+137.55+35.75+170.8+94.05+82.74+98.05+78.98+26.65+99.7+77.9+102.75+23.74+332.96+128.69+99.1+123.24+76.8+34.75+34.95+76.95+26.9 -> 6089.92 | D6: =C6+C7+C8 -> 27208.25 | F6: =E6+E7+E8 -> 0 | G6: =C6+E6 -> 6089.92 | H6: =G6+G7+G8 -> 27208.25 | J6: square m2 | K6: =50.67+1.72 -> 52.39 | M6: =Y6/3 -> 208.17 | N6: =M6 -> 208.17 | O6: =N6 -> 208.17 | Y6: 624.51
A7: materiālu piegādes izdevumi | B7: delivery | C7: =730+618 -> 1348 | G7: =C7+E7 -> 1348 | J7: object square | K7: hours optimal/ m2 | M7: 376.15 | N7: 235 | O7: 190 | Y7: =M7+N7+O7+P7+R7+S7+X7+T7+U7+V7+W7 -> 801.15 | Z7: ir ok, bez Alex
A8: apakšuzņēmēji | B8: subcontractors | C8: =3834.45+2626.62+945.3+12363.96 -> 19770.33 | G8: =C8+E8 -> 19770.33 | J8: m2<50 | K8: 13
A9: darba algas | B9: salaries | C9: =(200+181.3*16+176.98*13+84.32*12+358.84*14.5-C13)*1.42 -> 8685.5152 | D9: =C9+C10+C11+C13+C12 -> 21468.182 | F9: =E9+E10+E11+E13+E12 -> 0 | G9: =C9+E9 -> 8685.5152 | H9: =G9+G10+G11+G13+G12 -> 21468.182 | J9: 50<m2<100 | K9: 12
A10: DD VSAOI | B10: tax for salaries | C10: =C9*0.2359 -> 2048.913 | E10: =E9*0.2359 -> 0 | G10: =C10+E10 -> 2048.913
A11: uzkrājums atvaļinājumam | B11: vacation allowance | C11: =(C9+C10)*0.08 -> 858.75426 | E11: =(E9+E10)*0.08 -> 0 | G11: =C11+E11 -> 858.75426 | J11: materials and equipment costs
A12: administratīvie izdevumi 7% | B12: administrative costs 7% | C12: =(C4)*0.07 -> 4375 | E12: =(E4)*0.07 -> 0 | G12: =C12+E12 -> 4375 | J12: planned | K12: 7144.64
A13: komandējuma dienas naudas | B13: travel allowance | C13: =110*50 -> 5500 | G13: =C13+E13 -> 5500 | J13: in fact | K13: =G6+G7 -> 7437.92
A14: komandējuma izdevumi- naktsmītne | B14: travel expenses (hotels) | C14: =3375+100.11+35.05+70.8 -> 3580.96 | D14: =C14+C17+C15 -> 6629.44 | F14: =E14+E17+E15 -> 0 | G14: =C14+E14 -> 3580.96 | H14: =G14+G17+G15+G18 -> 6629.44
A15: komandējuma izdevumi- ceļš | B15: travel expenses ( tickets, road costs) | C15: =386.97+271.75 -> 658.72 | G15: =C15+E15 -> 658.72 | J15: Salaries and taxes
A16: komandējuma izdevumi (administrācija) | B16: travel expenses (administration) | C16: =206.4+503.98+15.97+33.8+23.32+211.07+174.4+28 -> 1196.94 | G16: =C16+E16 -> 1196.94 | J16: planned | K16: =13233.85+3000 -> 16233.85
A17: citi izdevumi | B17: other expenses | C17: =188.78+11.68+9+28.54+125+161+398.47+15+27.72+17.77+18.4+24.55+109.95+1253.9 -> 2389.76 | G17: =C17+E17 -> 2389.76 | J17: in fact | K17: =H9-G12 -> 17093.182
J18: hours cost in fact | K18: =K17/Y7 -> 21.335808 | M18: travel and living costs
A19: peļņa bruto | B19: profit/ loss | C19: =C4-C5 -> 7194.1275 | D19: =C19/C4 -> 0.11510604 | E19: =E4-E5 -> 0 | F19: =E19/E4 -> #DIV/0! | G19: =G4-G5 -> 7194.1275 | H19: =G19/G4 -> 0.11510604 | M19: 2/8-11/8 | N19: 12/08-18/08 | O19: 19/08-25/08 | Y19: total
A20: plānotā peļņa | B20: planned profit | G20: =K4-45823.45 -> 13176.55 | H20: =G20/K4 -> 0.22333136 | J20: hours per m2 | M20: 1 | N20: 2 | O20: 3 | P20: 4 | R20: 5 | S20: 6 | T20: 7 | U20: 8 | V20: 9 | W20: 10 | X20: 11
J21: planned | K21: =Y6/K6 -> 11.920405 | M21: =Y21/3 -> 1333.3333 | N21: =M21 -> 1333.3333 | O21: =M21 -> 1333.3333 | Y21: =K26 -> 4000
A22: Direct costs | B22: actual costs | C22: planned costs | J22: in fact | K22: =Y7/K6 -> 15.29204 | M22: =G15+G14 -> 4239.68 | Y22: =M22+N22+O22+P22+R22+S22+X22+T22+U22+V22+W22 -> 4239.68
A23: Materials, incl.delivery, and subcontractors | B23: =H6/G5 -> 0.49195951 | C23: =7144.64/45823.45 -> 0.15591668 | J23: m2 costs | K23: =K22*K18 -> 326.26804
A24: Salaries and taxes | B24: =H9/G5 -> 0.38817184 | C24: =13233.85/45823.46 -> 0.28880076
A25: Other costs | B25: =H14/G5 -> 0.11986865 | C25: =(19887.76+5603)/45823.45 -> 0.55628199 | J25: travel and living costs
J26: planned | K26: 4000
J27: in fact | K27: =G14+G15 -> 4239.68
J28: living costs per worked hour | K28: =G14/Y7 -> 4.4697747
J30: Subcontractors budget, EUR
J31: Payments to subcontractor, EUR | K31: =G8 -> 19770.33
J33: date of report
J34: 45575
C38: avansi | D38: =D39+D40 -> 1254.7
C39: Megie | D39: 200
C40: Buchl | D40: 1054.7

Sheet LULU2
A1: LULU2 | B1: lululemon , Existing Store Demolition Works, 08/07-22/07
A2: Object costs
C3: Jūlijs | E3: Novembris | G3: Total | J3: General data | M3: worked hours
A4: Objekta ieņēmumi kopā | B4: Budget total | C4: =K4 -> 12910 | E4: =K5 -> 11947.66 | G4: =E4+C4 -> 24857.66 | J4: Contract amount EUR | K4: 12910 | M4: 08/07-14/07 | N4: 15/07-21/07 | X4: total | Z4: total
A5: Objekta tiešie izdevumi | B5: Direct costs | C5: =C6+C7+C8+C9+C10+C11+C13+C14+C17+C15+C12 -> 7479.4685 | E5: =E6+E7+E8+E9+E10+E11+E13+E14+E17+E15+E12 -> 8177.4231 | G5: =G6+G7+G8+G9+G10+G11+G13+G14+G17+G15+G12+G18 -> 15656.892 | J5: Additional works, EUR | K5: =992.02+2200+8755.64 -> 11947.66 | M5: 1 | N5: 2 | O5: 3 | P5: 4 | Q5: 5 | R5: 6 | S5: 7 | T5: 8 | U5: 9 | V5: 10 | W5: 11 | Y5: 11
A6: materiālu un aprīkojuma iegāde | B6: materials and equipment | D6: =C6+C7+C8 -> 1985.9996 | E6: =E51+1114.21 -> 7341.0869 | F6: =E6+E7+E8 -> 7341.0869 | G6: =C6+E6 -> 7341.0869 | H6: =G6+G7+G8 -> 9327.0866 | J6: square m2 | M6: =X6/4 -> 0 | N6: =M6 -> 0 | O6: =M6 -> 0 | P6: =X6/4 -> 0
A7: materiālu piegādes izdevumi | B7: delivery | G7: =C7+E7 -> 0 | J7: object square | K7: hours optimal/ m2 | M7: 200.75 | X7: =M7+N7+O7+P7+Q7+R7+W7+S7+T7+U7+V7 -> 200.75 | Z7: =O7+P7+Q7+R7+S7+T7+Y7+U7+V7+W7+X7 -> 200.75
A8: apakšuzņēmēji | B8: subcontractors | C8: =D40+D41+D45 -> 1985.9996 | G8: =C8+E8 -> 1985.9996 | J8: m2<50 | K8: 13
A9: darba algas | B9: salaries | C9: =(2786-C13)*1.42 -> 1755.12 | D9: =C9+C10+C11+C13+C12 -> 4796.385 | F9: =E9+E10+E11+E13+E12 -> 836.3362 | G9: =C9+E9 -> 1755.12 | H9: =G9+G10+G11+G13+G12 -> 5632.7212 | J9: 50<m2<100 | K9: 12
A10: DD VSAOI | B10: tax for salaries | C10: =C9*0.2359 -> 414.03281 | E10: =E9*0.2359 -> 0 | G10: =C10+E10 -> 414.03281
A11: uzkrājums atvaļinājumam | B11: vacation allowance | C11: =(C9+C10)*0.08 -> 173.53222 | E11: =(E9+E10)*0.08 -> 0 | G11: =C11+E11 -> 173.53222 | J11: materials and equipment costs
A12: administratīvie izdevumi 7% | B12: administrative costs 7% | C12: =(C4)*0.07 -> 903.7 | E12: =(E4)*0.07 -> 836.3362 | G12: =C12+E12 -> 1740.0362 | J12: planned
A13: komandējuma dienas naudas | B13: travel allowance | C13: =31*50 -> 1550 | G13: =C13+E13 -> 1550 | J13: in fact | K13: =G6+G7 -> 7341.0869
A14: komandējuma izdevumi- naktsmītne | B14: travel expenses (hotels) | C14: =D43 -> 697.08381 | D14: =C14+C17+C15 -> 697.08381 | F14: =E14+E17+E15 -> 0 | G14: =C14+E14 -> 697.08381 | H14: =G14+G17+G15+G18 -> 697.08381
A15: komandējuma izdevumi- ceļš | B15: travel expenses ( tickets, road costs) | G15: =C15+E15 -> 0 | J15: Salaries and taxes
A16: komandējuma izdevumi (administrācija) | B16: travel expenses (administration) | G16: =C16+E16 -> 0 | J16: planned
A17: citi izdevumi | B17: other expenses | G17: =C17+E17 -> 0 | J17: in fact | K17: =H9-G12 -> 3892.685
J18: hours cost in fact | K18: =K17/Z7 -> 19.39071 | M18: travel and living costs
A19: peļņa bruto | B19: profit/ loss | C19: =C4-C5 -> 5430.5315 | D19: =C19/C4 -> 0.42064535 | E19: =E4-E5 -> 3770.2369 | F19: =E19/E4 -> 0.31556278 | G19: =G4-G5 -> 9200.7684 | H19: =G19/G4 -> 0.37013815 | M19: 09/09-15/09 | N19: 16/09-22/09 | X19: total | Z19: total
A20: plānotā peļņa | B20: planned profit | H20: =G20/K4 -> 0 | J20: hours per m2 | M20: 1 | N20: 2 | O20: 3 | P20: 4 | Q20: 5 | R20: 6 | S20: 7 | T20: 8 | U20: 9 | V20: 10 | W20: 11 | Y20: 11
J21: planned | K21: =#REF!/K6 -> #REF! | M21: =X21/4 -> #REF! | N21: =M21 -> #REF! | O21: =M21 -> #REF! | P21: =X21/4 -> #REF! | X21: =#REF! -> #REF! | Z21: =#REF! -> #REF!
A22: Direct costs | B22: actual costs | C22: planned costs | J22: in fact | K22: =#REF!/K6 -> #REF! | M22: =G15+G14 -> 697.08381 | X22: =M22+N22+O22+P22+Q22+R22+W22+S22+T22+U22+V22 -> 697.08381 | Z22: =O22+P22+Q22+R22+S22+T22+Y22+U22+V22+W22+X22 -> 697.08381
A23: Materials, incl.delivery, and subcontractors | B23: =H6/G5 -> 0.59571764 | J23: m2 costs | K23: =K22*K18 -> #REF!
A24: Salaries and taxes | B24: =H9/G5 -> 0.35975987
A25: Other costs | B25: =H14/G5 -> 0.04452249 | J25: travel and living costs
J26: planned | K26: =#REF! -> #REF!
J27: in fact | K27: =#REF! -> #REF!
J28: living costs per worked hour | K28: =K27/#REF! -> #REF!
J30: Subcontractors budget, EUR
J31: Payments to subcontractor, EUR | K31: =G8 -> 1985.9996
J33: date of report
J34: 45628
A39: Buildup rēķini | B39: nr. | C39: SEK | D39: EUR | E39: 11.54 | G39: 11.419
A40: Big BAg | B40: 149296691 | C40: 2150.04 | D40: =C40/$G$39 -> 188.28619
B41: 149402893 | C41: 16495.09 | D41: =C41/$G$39 -> 1444.5302
D42: =C42/$G$39 -> 0
A43: Easy Flat | B43: 46008 | C43: 7960 | D43: =C43/$G$39 -> 697.08381
D44: =C44/$G$39 -> 0
A45: Lantz | B45: 182333111606229 | C45: 4033 | D45: =C45/$G$39 -> 353.18329
A47: Artel | B47: 34746 | D47: 54600
...

Sheet LIN
A1: LIN | B1: Intimissimi Landstraße 9, 4020 Linz, Austria , 09/09/2024-(22)25/09/2024
A2: Object costs
C3: Septembris | G3: Total | J3: General data | M3: worked hours
A4: Objekta ieņēmumi kopā | B4: Budget total | C4: =K4 -> 55000 | G4: =E4+C4 -> 55000 | J4: Contract amount EUR | K4: 55000 | M4: 09/09-15/09 | N4: 16/09-22/09 | O4: 23/09-25/09 | X4: total
A5: Objekta tiešie izdevumi | B5: Direct costs | C5: =C6+C7+C8+C9+C10+C11+C13+C14+C17+C15+C12 -> 43039.989 | E5: =E6+E7+E8+E9+E10+E11+E13+E14+E17+E15+E12 -> 0 | G5: =G6+G7+G8+G9+G10+G11+G13+G14+G17+G15+G12+G18 -> 43039.989 | J5: Additional works, EUR | M5: 1 | N5: 2 | O5: 3 | P5: 4 | Q5: 5 | R5: 6 | S5: 7 | T5: 8 | U5: 9 | V5: 10 | W5: 11
A6: materiālu un aprīkojuma iegāde | B6: materials and equipment | C6: =75.43+1388.66+156.65+27.87+24.83+96.7+7.99+112.7+14.15+58+20.29+56.85+7+206.3+39.92+129.35+69.35+21.72+32.9+18.72+38.9+184.24+109.65 -> 2898.17 | D6: =C6+C7+C8 -> 7336.39 | F6: =E6+E7+E8 -> 0 | G6: =C6+E6 -> 2898.17 | H6: =G6+G7+G8 -> 7336.39 | J6: square m2 | K6: 96.48 | M6: =X6/2 -> 340 | N6: =M6 -> 340 | X6: 680
A7: materiālu piegādes izdevumi | B7: delivery | C7: =103.62+350 -> 453.62 | G7: =C7+E7 -> 453.62 | J7: object square | K7: hours optimal/ m2 | M7: =211.52 -> 211.52 | N7: 269.38 | O7: 117.88 | X7: =M7+N7+O7+P7+Q7+R7+W7+S7+T7+U7+V7 -> 598.78
A8: apakšuzņēmēji | B8: subcontractors | C8: =39+445.6+3500 -> 3984.6 | G8: =C8+E8 -> 3984.6 | J8: m2<50 | K8: 13
