Workbook

Sheet Total 2023
B1: objekts
B2: =FUR!A1 -> FUR | C2: ='MUN2'!A1 -> MUN2 | D2: =SAR!A1 -> SAR | E2: ='SAR2'!A1 -> SAR2 | F2: =SW!A1 -> SW | G2: =ANT!A1 -> ANT | H2: =OFF!A1 -> OFF | I2: =BER!A1 -> BER | J2: =MAL!A1 -> MAL | K2: TAL | L2: =NEU!A1 -> NEU | M2: =ARN!A1 -> ARN | N2: =MEM!A1 -> MEM | O2: =HAL!A1 -> HAL | P2: =OLD!A1 -> OLD | Q2: =DOR!A1 -> DOR | R2: =FAL!A1 -> FAL | S2: =AUH!A1 -> AUH | T2: =BOCH!A1 -> BOCH | U2: ='BER2'!A1 -> BER2 | V2: =SIE!A1 -> SIE | W2: =AMB!A1 -> AMB | X2: =CHA!A1 -> CHA | Y2: ='TAL2'!A1 -> TAL2 | Z2: =SIEC!A1 -> SIEC | AA2: ='FAL (2)'!A1 -> FAL2
A3: contract amount | B3: =FUR!AA10 -> 162000 | C3: ='MUN2'!AA10 -> 175887.1 | D3: =SAR!Y10 -> 64000 | E3: ='SAR2'!Y10 -> 22136.76 | F3: =SW!Y10 -> 5650 | G3: =ANT!AA10 -> 55889.96 | H3: =OFF!AC10 -> 158000 | I3: =BER!Y10 -> 75388.43 | J3: =MAL!Y10 -> 71337.13 | K3: =TAL!Y10 -> 16500 | L3: =NEU!AA10 -> 71273.73 | M3: =ARN!Y10 -> 60000 | N3: =MEM!Y10 -> 7000 | O3: =HAL!Y10 -> 63000 | P3: =OLD!AA10 -> 38521.98 | Q3: =DOR!AA10 -> 75736.12 | R3: =FAL!AA10 -> 75100.2 | S3: =AUH!Y10 -> 86000 | T3: =BOCH!Y10 -> 225634 | U3: ='BER2'!Y10 -> 405955.87 | V3: =SIE!Y10 -> 14005.39 | W3: =AMB!Y10 -> 70300.13 | X3: =CHA!AA10 -> 67542.6 | Y3: ='TAL2'!Y10 -> 94138.97 | Z3: =SIEC!Y10 -> 79000 | AA3: ='FAL (2)'!AA10 -> 18614.6
A4: additional works | B4: =FUR!AA11 -> 6555 | D4: =SAR!Y11 -> 17621.74 | E4: ='SAR2'!Y11 -> 8413.05 | F4: =SW!Y11 -> 0 | G4: =ANT!AA11 -> 0 | H4: =OFF!AC11 -> 24166.3 | I4: =BER!Y11 -> 11625 | J4: =MAL!Y11 -> 4528.76 | K4: =TAL!Y11 -> 0 | L4: =NEU!AA11 -> 800 | M4: =ARN!Y11 -> 5603.51 | N4: =MEM!Y11 -> 0 | O4: =HAL!Y11 -> 10297.39 | P4: =OLD!AA11 -> 2431.44 | Q4: =DOR!AA11 -> 5069.4 | R4: =FAL!AA11 -> 5153.47 | S4: =AUH!Y11 -> 1600 | T4: =BOCH!Y11 -> 25481.18 | U4: ='BER2'!Y11 -> 1600 | W4: =AMB!Y11 -> 0 | X4: =CHA!AA11 -> 18742.6 | Y4: ='TAL2'!Y11 -> 26296.98 | Z4: =SIEC!Y11 -> 3261.75 | AA4: ='FAL (2)'!AA11 -> 0
A5: total income | B5: =B3+B4 -> 168555 | C5: =C3+C4 -> 175887.1 | D5: =D3+D4 -> 81621.74 | E5: =E3+E4 -> 30549.81 | F5: =F3+F4 -> 5650 | G5: =G3+G4 -> 55889.96 | H5: =H3+H4 -> 182166.3 | I5: =I3+I4 -> 87013.43 | ... W5: =W3+W4 -> 70300.13 | X5: =X4+X3 -> 86285.2 | Y5: =Y4+Y3 -> 120435.95 | Z5: =Z4+Z3 -> 82261.75 | AA5: =AA4+AA3 -> 18614.6
A6: project manager | B6: Jānis/Matīss | C6: Alex | D6: Matīss | E6: Matīss | F6: Alex | G6: Jānis | H6: Matīss | I6: Alex | J6: Alex/ Edgars? | K6: Matīss | L6: Edgars | M6: Alex | N6: Edgars | O6: Mauro | P6: Alex | Q6: Alex | R6: Mauro/ Māris | S6: Mauro, Edgars | T6: Māris | U6: Alens | V6: Mauro | W6: Mauro | X6: Alexander | Y6: Jānis E. | Z6: Mauro | AA6: Alexander
A8: planned hours | B8: =FUR!AO6 -> 1698 | C8: ='MUN2'!AO6 -> 1206 | D8: =SAR!AM6 -> 708 | E8: ='SAR2'!AB6 -> 313 | G8: =ANT!AO6 -> 711.85 | H8: =OFF!AQ6 -> 1681 | I8: =BER!AM6 -> 478 | J8: =MAL!AM6 -> 900.82 | K8: =TAL!AM6 -> 0 | L8: =NEU!AO6 -> 695 | M8: =ARN!AM6 -> 543 | N8: =MEM!AM6 -> 0 | O8: =HAL!AM6 -> 996 | P8: =OLD!AO6 -> 466 | Q8: =DOR!AO6 -> 966 | R8: =FAL!AO6 -> 801 | S8: =AUH!AM6 -> 1010 | T8: =BOCH!AM6 -> 0 | U8: ='BER2'!AM6 -> 2881 | V8: =SIE!AM6 -> 0 | W8: =AMB!AM6 -> 192 | X8: =CHA!AO6 -> 875 | Y8: ='TAL2'!AM6 -> 1217 | Z8: =SIEC!AM6 -> 1019.94 | AA8: ='FAL (2)'!AO6 -> 0
A9: worked hours | B9: =FUR!AO7 -> 2232 | C9: ='MUN2'!AO7 -> 1445 | D9: =SAR!AM7 -> 1117 | E9: ='SAR2'!AB7 -> 377.5 | F9: =SW!AM7 -> 0 | G9: =ANT!AO7 -> 902.5 | H9: =OFF!AQ7 -> 1735 | I9: =TAL!AM7 -> 191.5 | J9: ='27'!AM7 -> 0 | K9: =NEU!AO7 -> 701 | L9: =NEU!AO7 -> 701 | M9: =ARN!AM7 -> 552 | N9: =MEM!AM7 -> 126 | O9: =HAL!AM7 -> 929.7 | P9: =OLD!AO7 -> 592 | Q9: =DOR!AO7 -> 833 | R9: =FAL!AO7 -> 989 | S9: =AUH!AM7 -> 940 | T9: =BOCH!AM7 -> 0 | U9: ='BER2'!AM7 -> 2881.29 | V9: =SIE!AM7 -> 143.7 | W9: =AMB!AM7 -> 396.29 | X9: =CHA!AO7 -> 1599.58 | Y9: ='TAL2'!AM7 -> 1518.82 | Z9: =SIEC!AM7 -> 682.811 | AA9: ='FAL (2)'!AO7 -> 272.99
A10: stundu bilance | B10: =B8-B9 -> -534 | C10: =C8-C9 -> -239 | D10: =D8-D9 -> -409 | E10: =E8-E9 -> -64.5 | G10: =G8-G9 -> -190.65 | H10: =H8-H9 -> -54 | I10: =I8-I9 -> 286.5 | J10: =J8-J9 -> 900.82 | K10: =K8-K9 -> -701 | L10: =L8-L9 -> -6 | M10: =M8-M9 -> -9 | N10: =N8-N9 -> -126 | ... AA10: =AA8-AA9 -> -272.99
B11: =FUR!I12 -> 11798.85 | C11: ='MUN2'!I12 -> 13227.449 | D11: =SAR!G12 -> 5713.5218 | E11: ='SAR2'!G12 -> 2138.4867 | F11: =SW!C12 -> 395.5 | G11: =ANT!I12 -> 3912.2972 | H11: =OFF!K12 -> 12751.641 | I11: =BER!G12 -> 6090.9401 | J11: =MAL!G12 -> 5627.6255 | K11: =TAL!G12 -> 1155 | L11: =NEU!I12 -> 4989.1611 | M11: =ARN!G12 -> 4200 | N11: =MEM!G12 -> 490 | O11: =HAL!G12 -> 5851.6346 | P11: =OLD!I12 -> 2866.7394 | Q11: =DOR!I12 -> 5656.3864 | R11: =FAL!I12 -> 5617.7569 | S11: =AUH!G12 -> 6132 | T11: =BOCH!G12 -> 17578.063 | U11: ='BER2'!G12 -> 28491.578 | V11: =SIE!G12 -> 980.3773 | W11: =AMB!G12 -> 4921.0091 | X11: =CHA!I12 -> 6039.964 | Y11: ='TAL2'!G12 -> 8430.5165 | Z11: =SIEC!G12 -> 5758.3225 | AA11: ='FAL (2)'!I12 -> 1303.022 | AB11: =SUM(B11:AA11) -> 172117.84
A12: profit % | B12: =FUR!J18 -> 0.33267714 | C12: ='MUN2'!J18 -> 0.39103871 | D12: =SAR!H18 -> 0.1351856 | E12: ='SAR2'!H17 -> 0.52116228 | F12: =SW!H17 -> -0.03004318 | G12: =ANT!J18 -> 0.42193976 | H12: =OFF!L17 -> 0.26579843 | I12: =BER!H17 -> 0.47628973 | J12: =MAL!H18 -> 0.38044981 | K12: =NEU!J18 -> 0.28825446 | L12: =NEU!J18 -> 0.28825446 | M12: =ARN!H18 -> 0.31821468 | N12: =MEM!H18 -> -0.27870181 | O12: =HAL!H18 -> 0.15042344 | P12: =OLD!J17 -> 0.10898887 | Q12: =DOR!J17 -> 0.46619797 | R12: =FAL!J17 -> 0.35928719 | S12: =AUH!H17 -> 0.30575781 | T12: =BOCH!H18 -> 0.11103523 | U12: ='BER2'!H17 -> 0.31451083 | V12: =SIE!H17 -> 0.27540369 | W12: =AMB!H17 -> 0.45402221 | X12: =CHA!J17 -> 0.062170191 | Y12: ='TAL2'!H17 -> 0.10679869 | Z12: =SIEC!H17 -> 0.35067917 | AA12: ='FAL (2)'!J17 -> 0.32568978
A13: profit EUR | B13: =FUR!I18 -> 56074.396 | C13: ='MUN2'!I18 -> 73892.066 | D13: =SAR!G18 -> 11034.084 | E13: ='SAR2'!G17 -> 15921.409 | F13: =SW!C17 -> -169.74397 | G13: =ANT!I18 -> 23582.196 | H13: =OFF!K17 -> 48419.516 | I13: =BER!G17 -> 41443.603 | J13: =MAL!G18 -> 28863.164 | K13: =TAL!G17 -> 5689.659 | L13: =NEU!I18 -> 20544.97 | M13: =ARN!G18 -> 20876 | N13: =MEM!G18 -> -1950.9127 | O13: =HAL!G18 -> 11025.646 | P13: =OLD!I17 -> 4463.4668 | Q13: =DOR!I17 -> 37671.369 | R13: =FAL!I17 -> 28834.116 | S13: =AUH!G17 -> 26784.384 | T13: =BOCH!G18 -> 27882.631 | U13: ='BER2'!G17 -> 128180.73 | V13: =SIE!G17 -> 3857.136 | W13: =AMB!G17 -> 31917.82 | X13: =CHA!I17 -> 5364.3674 | Y13: ='TAL2'!G17 -> 12862.401 | Z13: =SIEC!G17 -> 28847.482 | AA13: ='FAL (2)'!I17 -> 6062.5849 | AB13: =SUM(B13:AA13) -> 697974.55
A14: construction works profit/ loss | B14: =B15-B16 -> 56074.396 | C14: =C15-C16 -> 60815.606 | D14: =D15-D16 -> 7489.0838 | E14: =E15-E16 -> 15921.409 | F14: =F15-F16 -> -169.74397 | G14: =G15-G16 -> 23582.196 | H14: =H15-H16 -> 26694.386 | I14: =I15-I16 -> 41443.603 | ... Q14: =Q15-Q16 -> 33822.319 | R14: =FAL!I17 -> 28834.116 | S14: =AUH!G17 -> 26784.384 | T14: =T15-T16 -> -20208.329 | U14: =U15-U16 -> 235187.84 | V14: =V15-V16 -> 3857.136 | W14: =W15-W16 -> 31917.82 | X14: =X15-X16 -> 5458.5074 | Y14: =Y15-Y16 -> 60648.691 | Z14: =Z15-Z16 -> 29798.672 | AA14: =AA15-AA16 -> 6382.5849
A15: construction works budget | B15: =B5-B20 -> 140106.2 | C15: =C5-C20 -> 175887.1 | D15: =D5-D20 -> 63878.74 | E15: =E5-E20 -> 30549.81 | F15: =F5-F20 -> 5650 | G15: =G5-G20 -> 55889.96 | H15: =H5-H20 -> 139167.58 | I15: =I5-I20 -> 87013.43 | ... AA15: =AA5-AA20 -> 18614.6
B16: =FUR!I5-'Total 2023'!B20 -> 84031.804 | C16: ='MUN2'!I5-'Total 2023'!C21 -> 115071.49 | D16: =SAR!G5-'Total 2023'!D21 -> 56389.656 | E16: ='SAR2'!G5-'Total 2023'!E21 -> 14628.401 | F16: =SW!G5-'Total 2023'!F21 -> 5819.744 | G16: =ANT!I5-'Total 2023'!G21 -> 32307.764 | H16: =OFF!K5-'Total 2023'!H21 -> 112473.19 | I16: =BER!G5-'Total 2023'!I21 -> 45569.827 | J16: =MAL!G5-'Total 2023'!J21 -> 47002.726 | K16: =TAL!G5-'Total 2023'!K21 -> 10810.341 | L16: =NEU!I18-'Total 2023'!L21 -> 13867.205 | M16: =ARN!G5-'Total 2023'!M20 -> 29333.43 | N16: =MEM!G5-N20 -> 8950.9127 | O16: =HAL!G5-HAL!Y27 -> 62271.744 | P16: =OLD!I5-OLD!AA26 -> 32952.023 | Q16: =DOR!I5-DOR!AA26 -> 37428.201 | R16: =FAL!I5-FAL!I8 -> 50869.554 | S16: =AUH!G5-AUH!G8 -> 50539.316 | T16: =BOCH!G5-BOCH!G8 -> 60425.139 | U16: ='BER2'!G5-'BER2'!G8 -> 172368.03 | V16: =SIE!G5-'Total 2023'!V21 -> 10148.254 | W16: =AMB!G5 -> 38382.31 | X16: =CHA!I5-CHA!I8 -> 80826.693 | Y16: ='TAL2'!G5-'TAL2'!G8 -> 59787.259 | Z16: =SIEC!G5-SIEC!G8 -> 52463.078 | AA16: ='FAL (2)'!I5-'FAL (2)'!I8 -> 12232.015
B17: =B14/B15 -> 0.4002278 | C17: =C14/C15 -> 0.34576502 | D17: =D14/D15 -> 0.11723907 | E17: =E14/E15 -> 0.52116228 | F17: =F14/F15 -> -0.03004318 | G17: =G14/G15 -> 0.42193976 | H17: =H14/H15 -> 0.19181469 | I17: =I14/I15 -> 0.47628973 | ... AA17: =AA14/AA15 -> 0.34288058
A19: subcontractors work profit/loss | B19: =B20-B21 -> 6716.7517 | D19: =D20-D21 -> 3545 | H19: =H20-H21 -> 21725.13 | L19: =L20-L21 -> 8629.475 | M19: =M20-M21 -> 2900.8 | N19: =N20-N21 -> 0 | O19: =O20-O21 -> 0 | P19: =P20-P21 -> 2327.54 | Q19: =Q20-Q21 -> 3849.05 | S19: =S20-S21 -> -2264.48 | T19: =T20-T21 -> 81008.23
A20: subcontractors budget | B20: =FUR!AA26 -> 28448.8 | D20: =SAR!Y26 -> 17743 | H20: =OFF!AC25 -> 42998.72 | L20: =NEU!AA26 -> 15307.24 | M20: =ARN!Y26 -> 15394.08 | N20: =MEM!Y26 -> 0 | O20: =HAL!Y26 -> 0 | P20: =OLD!AA25 -> 5865.47 | Q20: =DOR!AA25 -> 9555 | S20: =AUH!Y25 -> 4794 | T20: =BOCH!Y26 -> 210898.37 | V20: =SIE!Y25 -> 0 | W20: =AMB!Y25 -> 0 | X20: =CHA!AA25 -> 0 | Y20: ='TAL2'!Y25 -> 0 | Z20: =SIEC!Y25 -> 0 | AA20: ='FAL (2)'!AA25 -> 0
B21: =FUR!AA27 -> 21732.048 | D21: =SAR!Y27 -> 14198 | H21: =OFF!AC26 -> 21273.59 | L21: =NEU!AA27 -> 6677.765 | M21: =ARN!Y27 -> 12493.28 | N21: =MEM!Y27 -> 0 | O21: =HAL!Y27 -> 0 | P21: =OLD!AA26 -> 3537.93 | Q21: =DOR!AA26 -> 5705.95 | S21: =AUH!Y26 -> 7058.48 | T21: =BOCH!Y27 -> 129890.14 | U21: ='BER2'!Y26 -> 0 | V21: =SIE!Y26 -> 0 | W21: =AMB!Y26 -> 0 | X21: =CHA!AA26 -> 0 | Y21: ='TAL2'!Y26 -> 0 | Z21: =SIEC!Y26 -> 0 | AA21: ='FAL (2)'!AA26 -> 0
B22: =B19/B20 -> 0.23609965 | D22: =D19/D20 -> 0.1997971 | H22: =H19/H20 -> 0.50525062 | L22: =L19/L20 -> 0.56375121 | M22: =M19/M20 -> 0.18843607 | P22: =P19/P20 -> 0.39682072 | Q22: =Q19/Q20 -> 0.40283098 | S22: =S19/S20 -> -0.47235711 | T22: =T19/T20 -> 0.38411027 | U22: =U19/U20 -> #DIV/0! | V22: =V19/V20 -> #DIV/0! | W22: =W19/W20 -> #DIV/0! | X22: =X19/X20 -> #DIV/0! | Y22: =Y19/Y20 -> #DIV/0! | Z22: =Z19/Z20 -> #DIV/0! | AA22: =AA19/AA20 -> #DIV/0!

Sheet Profit 
A1: Object | B1: contract amount | C1: additional works | D1: object total | E1: Profit (%) | F1: Project manager
A2: ='SAR2'!A1 -> SAR2 | B2: ='SAR2'!Y10 -> 22136.76 | C2: ='SAR2'!Y11 -> 8413.05 | D2: =C2+B2 -> 30549.81 | E2: ='SAR2'!H17 -> 0.52116228 | F2: Matīss | G2: =D2*E2 -> 15921.409
A3: =BER!A1 -> BER | B3: =BER!Y10 -> 75388.43 | C3: =BER!Y11 -> 11625 | D3: =C3+B3 -> 87013.43 | E3: =BER!H17 -> 0.47628973 | F3: Alexander | G3: =D3*E3 -> 41443.603
A4: =DOR!A1 -> DOR | B4: =DOR!AA10 -> 75736.12 | C4: =DOR!AA11 -> 5069.4 | D4: =C4+B4 -> 80805.52 | E4: =DOR!J17 -> 0.46619797 | F4: Alexander | G4: =D4*E4 -> 37671.369
A5: =AMB!A1 -> AMB | B5: =AMB!G4 -> 70300.13 | D5: =C5+B5 -> 70300.13 | E5: =AMB!H17 -> 0.45402221 | F5: Mauro | G5: =D5*E5 -> 31917.82
A6: =ANT!A1 -> ANT | B6: =ANT!AA10 -> 55889.96 | C6: =ANT!AA11 -> 0 | D6: =C6+B6 -> 55889.96 | E6: =ANT!J18 -> 0.42193976 | F6: Jānis | G6: =D6*E6 -> 23582.196
A7: ='MUN2'!A1 -> MUN2 | B7: ='MUN2'!AA10 -> 175887.1 | C7: ='MUN2'!AA11 -> 13076.46 | D7: =C7+B7 -> 188963.56 | E7: ='MUN2'!J18 -> 0.39103871 | F7: Alexander | G7: =D7*E7 -> 73892.066
A8: =MAL!A1 -> MAL | B8: =MAL!Y10 -> 71337.13 | C8: =MAL!Y11 -> 4528.76 | D8: =C8+B8 -> 75865.89 | E8: =MAL!H18 -> 0.38044981 | F8: Alexander | G8: =D8*E8 -> 28863.164
A9: =FAL!A1 -> FAL | B9: =FAL!AA10 -> 75100.2 | C9: =FAL!AA11 -> 5153.47 | D9: =C9+B9 -> 80253.67 | E9: =FAL!J17 -> 0.35928719 | F9: Māris, Mauro | G9: =D9*E9 -> 28834.116
A10: =SIEC!A1 -> SIEC | B10: =SIEC!Y10 -> 79000 | C10: =SIEC!Y11 -> 3261.75 | D10: =C10+B10 -> 82261.75 | E10: =SIEC!H17 -> 0.35067917 | F10: Mauro | G10: =D10*E10 -> 28847.482
A11: =TAL!A1 -> TAL | B11: =TAL!Y10 -> 16500 | C11: =TAL!Y11 -> 0 | D11: =C11+B11 -> 16500 | E11: =TAL!H17 -> 0.34482782 | F11: Matīss | G11: =D11*E11 -> 5689.659
A12: =FUR!A1 -> FUR | B12: =FUR!AA10 -> 162000 | C12: =FUR!AA11 -> 6555 | D12: =C12+B12 -> 168555 | E12: =FUR!J18 -> 0.33267714 | F12: Jānis | G12: =D12*E12 -> 56074.396
A13: ='FAL (2)'!A1 -> FAL2 | B13: ='FAL (2)'!C4 -> 18614.6 | C13: ='27'!Y11 -> 0 | D13: =C13+B13 -> 18614.6 | E13: ='FAL (2)'!J17 -> 0.32568978 | F13: Alexander | G13: =D13*E13 -> 6062.5849
A14: =ARN!A1 -> ARN | B14: =ARN!Y10 -> 60000 | C14: =ARN!Y11 -> 5603.51 | D14: =C14+B14 -> 65603.51 | E14: =ARN!H18 -> 0.31821468 | F14: Alexander | G14: =D14*E14 -> 20876
A15: ='BER2'!A1 -> BER2 | B15: ='BER2'!Y10 -> 405955.87 | C15: ='BER2'!Y11 -> 1600 | D15: =C15+B15 -> 407555.87 | E15: ='BER2'!H17 -> 0.31451083 | F15: Alens | G15: =D15*E15 -> 128180.73
A16: =AUH!A1 -> AUH | B16: =AUH!Y10 -> 86000 | C16: =AUH!Y11 -> 1600 | D16: =C16+B16 -> 87600 | E16: =AUH!H17 -> 0.30575781 | F16: Mauro, Edgars | G16: =D16*E16 -> 26784.384
A17: =NEU!A1 -> NEU | B17: =NEU!AA10 -> 71273.73 | C17: =NEU!AA11 -> 800 | D17: =C17+B17 -> 72073.73 | E17: =NEU!J18 -> 0.28825446 | F17: Edgars | G17: =D17*E17 -> 20775.574
A18: =SIE!A1 -> SIE | B18: =SIE!Y10 -> 14005.39 | C18: =SIE!Y11 -> 0 | D18: =C18+B18 -> 14005.39 | E18: =SIE!H17 -> 0.27540369 | F18: Mauro | G18: =D18*E18 -> 3857.136
A19: =OFF!A1 -> OFF | B19: =OFF!AC10 -> 158000 | C19: =OFF!AC11 -> 24166.3 | D19: =C19+B19 -> 182166.3 | E19: =OFF!L17 -> 0.26579843 | F19: Matīss | G19: =D19*E19 -> 48419.516
A20: =HAL!A1 -> HAL | B20: =HAL!Y10 -> 63000 | C20: =HAL!Y11 -> 10297.39 | D20: =C20+B20 -> 73297.39 | E20: =HAL!H18 -> 0.15042344 | F20: Mauro | G20: =D20*E20 -> 11025.646
A21: =SAR!A1 -> SAR | B21: =SAR!Y10 -> 64000 | C21: =SAR!Y11 -> 17621.74 | D21: =C21+B21 -> 81621.74 | E21: =SAR!H18 -> 0.1351856 | F21: Matīss | G21: =D21*E21 -> 11034.084
A22: =BOCH!A1 -> BOCH | B22: =BOCH!Y10 -> 225634 | C22: =BOCH!Y11 -> 25481.18 | D22: =C22+B22 -> 251115.18 | E22: =BOCH!H18 -> 0.11103523 | F22: Māris | G22: =D22*E22 -> 27882.631
A23: =OLD!A1 -> OLD | B23: =OLD!AA10 -> 38521.98 | C23: =OLD!AA11 -> 2431.44 | D23: =C23+B23 -> 40953.42 | E23: =OLD!J17 -> 0.10898887 | F23: Alexander | G23: =D23*E23 -> 4463.4668
A24: ='TAL2'!A1 -> TAL2 | B24: ='TAL2'!Y10 -> 94138.97 | C24: ='TAL2'!Y11 -> 26296.98 | D24: =C24+B24 -> 120435.95 | E24: ='TAL2'!H17 -> 0.10679869 | F24: Aleksandrs L., Jānis E. | G24: =D24*E24 -> 12862.401
A25: =CHA!A1 -> CHA | B25: =CHA!AA10 -> 67542.6 | C25: =CHA!AA11 -> 18742.6 | D25: =C25+B25 -> 86285.2 | E25: =CHA!J17 -> 0.062170191 | F25: Alexander | G25: =D25*E25 -> 5364.3674
A26: =SW!A1 -> SW | B26: =SW!Y10 -> 5650 | C26: =SW!Y11 -> 0 | D26: =C26+B26 -> 5650 | E26: =SW!H17 -> -0.03004318 | F26: Alexander | G26: =D26*E26 -> -169.74397
A27: =MEM!A1 -> MEM | B27: =MEM!Y10 -> 7000 | C27: =MEM!Y11 -> 0 | D27: =C27+B27 -> 7000 | E27: =MEM!H18 -> -0.27870181 | F27: Edgars | G27: =D27*E27 -> -1950.9127
G28: =SUM(G2:G27) -> 698205.15

Sheet 29
A2: Object costs | J2: KPI
C3: Novembris | E3: Decembris | G3: Total | J3: Object address | K3: execution of contract | X3: execution of the contract | AA3: Object address | AB3: worked hours
A4: Objekta ieņēmumi kopā | B4: Budget total | C4: =G4/5*4 -> 0 | E4: =G4/5+Y11 -> 0 | G4: =Y10+Y11 -> 0 | H4: =AM6 -> 0 | J4: Time shedule, weeks | K4: 31/10-6/11 | L4: 7/11-13/11 | M4: 14/11-20/11 | N4: 21/11-27/11 | O4: 28/11/-05/12 | V4: total | X4: planned | Y4: =V6 -> 1 | AA4: Time shedule, weeks | AB4: 31/10-6/11 | AC4: 7/11-13/11 | AD4: 14/11-20/11 | AE4: 21/11-27/11 | AF4: 28/11/-05/12 | AM4: total
A5: Objekta tiešie izdevumi | B5: Direct costs | C5: =C6+C7+C8+C9+C10+C11+C13+C14+C16+C15+C12 -> 0 | E5: =E6+E7+E8+E9+E10+E11+E13+E14+E16+E15+E12 -> 0 | G5: =G6+G7+G8+G9+G10+G11+G13+G14+G16+G15+G12 -> 0 | H5: =AM7 -> 0 | K5: 1 | L5: 2 | M5: 3 | N5: 4 | O5: 5 | P5: 6 | Q5: 7 | R5: 8 | S5: 9 | T5: 10 | X5: in fact | Y5: =N7+V8 -> #DIV/0! | AB5: 1 | AC5: 2 | AD5: 3 | AE5: 4 | AF5: 5 | AG5: 6 | AH5: 7 | AI5: 8 | AJ5: 9 | AK5: 10 | AL5: 11
A6: materiālu un aprīkojuma iegāde | B6: materials and equipment | D6: =C6+C7+C8 -> 0 | F6: =E6+E7+E8 -> 0 | G6: =C6+E6 -> 0 | H6: =G6+G7+G8 -> 0 | K6: 0.2 | L6: 0.4 | M6: 0.6 | N6: 0.8 | O6: 1 | V6: =O6 -> 1 | X6: hours per m2 | AB6: =AM6/6 -> 0 | AC6: =AB6 -> 0 | AD6: =AB6 -> 0 | AE6: =AD6 -> 0 | AF6: =AE6 -> 0 | AG6: =AF6 -> 0
A7: materiālu piegādes izdevumi | B7: delivery | G7: =C7+E7 -> 0 | V7: =O7 -> 0 | X7: planned | Y7: =AM6/Y13 -> #DIV/0! | AM7: =AB7+AC7+AD7+AE7+AF7+AG7+AL7+AH7+AI7+AJ7+AK7 -> 0
A8: apakšuzņēmēji | B8: subcontractors | G8: =C8+E8 -> 0 | O8: =Y11/Y10 -> #DIV/0! | V8: =SUM(K8:U8) -> #DIV/0! | X8: in fact | Y8: =AM7/Y13 -> #DIV/0!
A9: darba algas | B9: salaries | D9: =C9+C10+C11+C13+C12 -> 0 | F9: =E9+E10+E11+E13+E12 -> 0 | G9: =C9+E9 -> 0 | H9: =G9+G10+G11+G13+G12 -> 0
A10: DD VSAOI | B10: tax for salaries | C10: =C9*0.2359 -> 0 | E10: =E9*0.2359 -> 0 | G10: =C10+E10 -> 0 | X10: Contract amount EUR
A11: uzkrājums atvaļinājumam | B11: vacation allowance | C11: =(C9+C10)*0.08 -> 0 | E11: =(E9+E10)*0.08 -> 0 | G11: =C11+E11 -> 0 | X11: Additional works, EUR
A12: administratīvie izdevumi 7% | B12: administrative costs 7% | C12: =(C13+C11+C10+C9)*0.07 -> 0 | E12: =(E13+E11+E10+E9)*0.07 -> 0 | G12: =C12+E12 -> 0
A13: komandējuma dienas naudas | B13: travel allowance | G13: =C13+E13 -> 0 | X13: square m2
A14: komandējuma izdevumi- naktsmītne | B14: travel expenses (hotels) | D14: =C14+C16+C15 -> 0 | F14: =E14+E16+E15 -> 0 | G14: =C14+E14 -> 0 | H14: =G14+G16+G15 -> 0 | X14: object square | Y14: hours optimal/ m2
A15: komandējuma izdevumi- ceļš | B15: travel expenses ( tickets, road costs) | G15: =C15+E15 -> 0 | X15: m2<50 | Y15: 13
A16: citi izdevumi | B16: other expenses | G16: =C16+E16 -> 0 | X16: 50<m2<100 | Y16: 12
A17: peļņa bruto | B17: profit/ loss | C17: =C4-C5 -> 0 | D17: =C17/C4 -> #DIV/0! | E17: =E4-E5 -> 0 | F17: =E17/E4 -> #DIV/0! | G17: =G4-G5 -> 0 | H17: =G17/G4 -> #DIV/0!
J18: Object address | K18: materials and equipments costs | X18: materials and equipment costs | AA18: Object address | AB18: travel and living costs
A19: Direct costs | B19: % | J19: Time shedule, weeks | K19: 31/10-6/11 | L19: 7/11-13/11 | M19: 14/11-20/11 | N19: 21/11-27/11 | O19: 28/11/-05/12 | V19: total | X19: planned | AA19: Time shedule, weeks | AB19: 31/10-6/11 | AC19: 7/11-13/11 | AD19: 14/11-20/11 | AE19: 21/11-27/11 | AF19: 28/11/-05/12 | AM19: total
A20: Materials, incl.delivery, and subcontractors | B20: =H6/G5*100 -> #DIV/0! | K20: 1 | L20: 2 | M20: 3 | N20: 4 | O20: 5 | P20: 6 | Q20: 7 | R20: 8 | S20: 9 | T20: 10 | X20: in fact | Y20: =V22 -> 0 | AB20: 1 | AC20: 2 | AD20: 3 | AE20: 4 | AF20: 5 | AG20: 6 | AH20: 7 | AI20: 8 | AJ20: 9 | AK20: 10 | AL20: 11
A21: Salaries and taxes | B21: =H9/G5*100 -> #DIV/0! | K21: =V21/5 -> 0 | L21: =K21 -> 0 | M21: =K21 -> 0 | N21: =M21 -> 0 | O21: =N21 -> 0 | V21: =Y19 -> 0 | X21: travel and living costs | AB21: =AM21/5 -> 0 | AC21: =AB21 -> 0 | AD21: =AB21 -> 0 | AE21: =AD21 -> 0 | AF21: =AE21 -> 0 | AM21: =Y22 -> 0
A22: Other costs | B22: =H14/G5*100 -> #DIV/0! | V22: =K22+L22+M22+N22+O22+P22+U22+Q22+R22+S22+T22 -> 0 | X22: planned | AM22: =AB22+AC22+AD22+AE22+AF22+AG22+AL22+AH22+AI22+AJ22+AK22 -> 0
X23: in fact | Y23: =AM22 -> 0
X25: Subcontractors budget, EUR
X26: Payments to subcontractor, EUR
X30: date of report
C41: =822*14.2 -> 11672.4 | D41: =C41-E13 -> 11672.4 | E41: =D41*1.42 -> 16574.808
C42: =13.3*1412 -> 18779.6 | D42: =C42-C13 -> 18779.6 | E42: =D42*1.42 -> 26667.032
D46: CALZ | E46: INT | F46: TOTAL | G46: INT | H46: total
C47: contract | D47: 74000 | E47: 65224.74 | F47: =E47+D47 -> 139224.74 | G47: 76000 | H47: =G47+D47 -> 150000
C48: 0.3 | D48: =ROUND(D47*0.3,2) -> 22200 | E48: =ROUND(E47*0.3,2) -> 19567.42 | F48: =ROUND(F47*0.3,2) -> 41767.42 | G48: =ROUND(G47*0.3,2) -> 22800 | H48: =G48+D48 -> 45000
C49: 0.7 | D49: =ROUND(D47*0.7,2) -> 51800 | E49: =ROUND(E47*0.7,2) -> 45657.32 | F49: =ROUND(F47*0.7,2) -> 97457.32 | G49: =ROUND(G47*0.7,2) -> 53200 | H49: =G49+D49 -> 105000
E50: =E48 -> 19567.42 | F50: =F48 -> 41767.42

Sheet 28
B1: Levi's Outlet Berlin Wustermark Alter Spandauer Weg 1 14641 Wustermark Germany 27/10/2023-02/12/2023
A2: Object costs | J2: KPI
G3: Total | J3: Object address | K3: execution of contract | X3: execution of the contract | AA3: Object address | AB3: worked hours
A4: Objekta ieņēmumi kopā | B4: Budget total | C4: =G4 -> 364465.27 | G4: =Y10+Y11 -> 364465.27 | H4: =AM6 -> 0 | J4: Time shedule, weeks | K4: 27/10-05/11 | L4: 06/11-12/11 | M4: 13/11-19/11 | N4: 20/11-25/11 | O4: 26/11-2/12 | V4: total | X4: planned | Y4: =N6 -> 0.8 | AA4: Time shedule, weeks | AB4: 27/10-05/11 | AC4: 06/11-12/11 | AD4: 13/11-19/11 | AE4: 20/11-25/11 | AF4: 26/11-2/12 | AM4: total
A5: Objekta tiešie izdevumi | B5: Direct costs | C5: =C6+C7+C8+C9+C10+C11+C13+C14+C16+C15+C12 -> 0 | E5: =E6+E7+E8+E9+E10+E11+E13+E14+E16+E15+E12 -> 0 | G5: =G6+G7+G8+G9+G10+G11+G13+G14+G16+G15+G12 -> 0 | H5: =AM7 -> 0 | K5: 1 | L5: 2 | M5: 3 | N5: 4 | O5: 5 | P5: 6 | Q5: 7 | R5: 8 | S5: 9 | T5: 10 | X5: in fact | Y5: =N7+V8 -> 0 | AB5: 1 | AC5: 2 | AD5: 3 | AE5: 4 | AF5: 5 | AG5: 6 | AH5: 7 | AI5: 8 | AJ5: 9 | AK5: 10 | AL5: 11
A6: materiālu un aprīkojuma iegāde | B6: materials and equipment | D6: =C6+C7+C8 -> 0 | F6: =E6+E7+E8 -> 0 | G6: =C6+E6 -> 0 | H6: =G6+G7+G8 -> 0 | K6: 0.2 | L6: 0.4 | M6: 0.6 | N6: 0.8 | O6: 1 | V6: =O6 -> 1 | X6: hours per m2 | AB6: =AM6/6 -> 0 | AC6: =AB6 -> 0 | AD6: =AB6 -> 0 | AE6: =AD6 -> 0 | AF6: =AE6 -> 0 | AG6: =AF6 -> 0
A7: materiālu piegādes izdevumi | B7: delivery | G7: =C7+E7 -> 0 | V7: =O7 -> 0 | X7: planned | Y7: =AM6/Y13 -> #DIV/0! | AM7: =AB7+AC7+AD7+AE7+AF7+AG7+AL7+AH7+AI7+AJ7+AK7 -> 0
A8: apakšuzņēmēji | B8: subcontractors | G8: =C8+E8 -> 0 | V8: =SUM(K8:U8) -> 0 | X8: in fact | Y8: =AM7/Y13 -> #DIV/0!
A9: darba algas | B9: salaries | D9: =C9+C10+C11+C13+C12 -> 0 | F9: =E9+E10+E11+E13+E12 -> 0 | G9: =C9+E9 -> 0 | H9: =G9+G10+G11+G13+G12 -> 0
A10: DD VSAOI | B10: tax for salaries | C10: =C9*0.2359 -> 0 | E10: =E9*0.2359 -> 0 | G10: =C10+E10 -> 0 | X10: Contract amount EUR | Y10: 364465.27
A11: uzkrājums atvaļinājumam | B11: vacation allowance | C11: =(C9+C10)*0.08 -> 0 | E11: =(E9+E10)*0.08 -> 0 | G11: =C11+E11 -> 0 | X11: Additional works, EUR
A12: administratīvie izdevumi 7% | B12: administrative costs 7% | C12: =(C13+C11+C10+C9)*0.07 -> 0 | E12: =(E13+E11+E10+E9)*0.07 -> 0 | G12: =C12+E12 -> 0
A13: komandējuma dienas naudas | B13: travel allowance | G13: =C13+E13 -> 0 | X13: square m2
A14: komandējuma izdevumi- naktsmītne | B14: travel expenses (hotels) | D14: =C14+C16+C15 -> 0 | F14: =E14+E16+E15 -> 0 | G14: =C14+E14 -> 0 | H14: =G14+G16+G15 -> 0 | X14: object square | Y14: hours optimal/ m2
A15: komandējuma izdevumi- ceļš | B15: travel expenses ( tickets, road costs) | G15: =C15+E15 -> 0 | X15: m2<50 | Y15: 13
A16: citi izdevumi | B16: other expenses | G16: =C16+E16 -> 0 | X16: 50<m2<100 | Y16: 12
A17: peļņa bruto | B17: profit/ loss | C17: =C4-C5 -> 364465.27 | D17: =C17/C4 -> 1 | E17: =E4-E5 -> 0 | F17: =E17/E4 -> #DIV/0! | G17: =G4-G5 -> 364465.27 | H17: =G17/G4 -> 1
J18: Object address | K18: materials and equipments costs | X18: materials and equipment costs | AA18: Object address | AB18: travel and living costs
A19: Direct costs | B19: % | J19: Time shedule, weeks | K19: 27/10-05/11 | L19: 06/11-12/11 | M19: 13/11-19/11 | N19: 20/11-25/11 | O19: 26/11-2/12 | V19: total | X19: planned | AA19: Time shedule, weeks | AB19: 27/10-05/11 | AC19: 06/11-12/11 | AD19: 13/11-19/11 | AE19: 20/11-25/11 | AF19: 26/11-2/12 | AM19: total
A20: Materials, incl.delivery, and subcontractors | B20: =H6/G5*100 -> #DIV/0! | K20: 1 | L20: 2 | M20: 3 | N20: 4 | O20: 5 | P20: 6 | Q20: 7 | R20: 8 | S20: 9 | T20: 10 | X20: in fact | Y20: =V22 -> 0 | AB20: 1 | AC20: 2 | AD20: 3 | AE20: 4 | AF20: 5 | AG20: 6 | AH20: 7 | AI20: 8 | AJ20: 9 | AK20: 10 | AL20: 11
A21: Salaries and taxes | B21: =H9/G5*100 -> #DIV/0! | K21: =V21/5 -> 0 | L21: =K21 -> 0 | M21: =K21 -> 0 | N21: =M21 -> 0 | O21: =N21 -> 0 | V21: =Y19 -> 0 | X21: travel and living costs | AB21: =AM21/5 -> 0 | AC21: =AB21 -> 0 | AD21: =AB21 -> 0 | AE21: =AD21 -> 0 | AF21: =AE21 -> 0 | AM21: =Y22 -> 0
A22: Other costs | B22: =H14/G5*100 -> #DIV/0! | V22: =K22+L22+M22+N22+O22+P22+U22+Q22+R22+S22+T22 -> 0 | X22: planned | AM22: =AB22+AC22+AD22+AE22+AF22+AG22+AL22+AH22+AI22+AJ22+AK22 -> 0
X23: in fact | Y23: =AM22 -> 0
X25: Subcontractors budget, EUR
X26: Payments to subcontractor, EUR
X30: date of report
D46: CALZ | E46: INT | F46: TOTAL
C47: contract, SEK | D47: 32590.97 | E47: 65224.74 | F47: =E47+D47 -> 97815.71
C48: 0.3 | D48: =ROUND(D47*0.3,2) -> 9777.29 | E48: =ROUND(E47*0.3,2) -> 19567.42 | F48: =E48+D48 -> 29344.71
C49: 0.4 | D49: =ROUND(D47*0.4,2) -> 13036.39 | E49: =ROUND(E47*0.4,2) -> 26089.9 | F49: =E49+D49 -> 39126.29
C50: 0.3 | D50: =D48 -> 9777.29 | E50: =E48 -> 19567.42 | F50: =F48 -> 29344.71
A52: BuildUp invoices 10/2022
A53: optimera | B53: 9810899 | C53: =18942.67+995 -> 19937.67
B54: 54846415 | C54: 23771.54
B55: 54949441 | C55: 88.18
B56: 54949433 | C56: 423.64
B57: 54865126 | C57: 2827.29
B58: Total SEK | C58: =SUM(C53:C57) -> 47048.32
B59: Total EUR | C59: =C58*0.09 -> 4234.3488
A61: BuildUp invoices 11/2022
...

Sheet 27
A2: Object costs | J2: KPI
G3: Total | J3: Object address | K3: execution of contract | X3: execution of the contract | AA3: Object address | AB3: worked hours
A4: Objekta ieņēmumi kopā | B4: Budget total | C4: =Y10/2 -> 0 | E4: =C4 -> 0 | G4: =C4+E4+Y11 -> 0 | H4: =D4+F4 -> 0 | J4: Time shedule, weeks | V4: total | X4: planned | Y4: =N6 -> 1 | AA4: Time shedule, weeks | AM4: total
A5: Objekta tiešie izdevumi | B5: Direct costs | C5: =C6+C7+C8+C9+C10+C11+C13+C14+C16+C15+C12 -> 0 | E5: =E6+E7+E8+E9+E10+E11+E13+E14+E16+E15+E12 -> 0 | G5: =G6+G7+G8+G9+G10+G11+G13+G14+G16+G15+G12+G17 -> 0 | K5: 1 | L5: 2 | M5: 3 | N5: 4 | O5: 5 | P5: 6 | X5: in fact | Y5: =V7+V8 -> #DIV/0! | AB5: 1 | AC5: 2 | AD5: 3 | AE5: 4 | AF5: 5 | AG5: 6 | AH5: 7 | AI5: 8 | AJ5: 9 | AK5: 10 | AL5: 11
A6: materiālu un aprīkojuma iegāde | B6: materials and equipment | D6: =C6+C7+C8 -> 0 | F6: =E6+E7+E8 -> 0 | G6: =C6+E6 -> 0 | H6: =G6+G7+G8 -> 0 | K6: 0.25 | L6: 0.5 | M6: 0.75 | N6: 1 | V6: =N6 -> 1 | X6: hours per m2 | AB6: =AM6/4 -> 0 | AC6: =AB6 -> 0 | AD6: =AB6 -> 0 | AE6: =AD6 -> 0
A7: materiālu piegādes izdevumi | B7: delivery | G7: =C7+E7 -> 0 | V7: =P7 -> 0 | X7: planned | Y7: =AM6/Y13 -> #DIV/0! | AM7: =AB7+AC7+AD7+AE7+AF7+AG7+AL7+AH7+AI7+AJ7+AK7 -> 0
A8: apakšuzņēmēji | B8: subcontractors | G8: =C8+E8 -> 0 | P8: =Y11/Y10 -> #DIV/0! | V8: =P8 -> #DIV/0! | X8: in fact | Y8: =AM7/Y13 -> #DIV/0!
A9: darba algas | B9: salaries | D9: =C9+C10+C11+C13+C12 -> 0 | F9: =E9+E10+E11+E13+E12 -> 0 | G9: =C9+E9 -> 0 | H9: =G9+G10+G11+G13+G12 -> 0
A10: DD VSAOI | B10: tax for salaries | C10: =C9*0.2359 -> 0 | E10: =E9*0.2359 -> 0 | G10: =C10+E10 -> 0 | X10: Contract amount EUR
A11: uzkrājums atvaļinājumam | B11: vacation allowance | C11: =(C9+C10)*0.08 -> 0 | E11: =(E9+E10)*0.08 -> 0 | G11: =C11+E11 -> 0 | X11: Additional works, EUR
A12: administratīvie izdevumi 7% | B12: administrative costs 7% | C12: =(C13+C11+C10+C9)*0.07 -> 0 | E12: =(E13+E11+E10+E9)*0.07 -> 0 | G12: =C12+E12 -> 0
A13: komandējuma dienas naudas | B13: travel allowance | G13: =C13+E13 -> 0 | X13: square m2
A14: komandējuma izdevumi- naktsmītne | B14: travel expenses (hotels) | D14: =C14+C16+C15 -> 0 | F14: =E14+E16+E15 -> 0 | G14: =C14+E14 -> 0 | H14: =G14+G16+G15+G17 -> 0 | X14: object square | Y14: hours optimal/ m2
A15: komandējuma izdevumi- ceļš | B15: travel expenses ( tickets, road costs) | G15: =C15+E15 -> 0 | X15: m2<50 | Y15: 13
A16: citi izdevumi | B16: other expenses | G16: =C16+E16 -> 0 | X16: 50<m2<100 | Y16: 12
A18: peļņa bruto | B18: profit/ loss | C18: =C4-C5 -> 0 | D18: =C18/C4 -> #DIV/0! | E18: =E4-E5 -> 0 | F18: =E18/E4 -> #DIV/0! | G18: =G4-G5 -> 0 | H18: =G18/G4 -> #DIV/0!
J19: Object address | K19: materials and equipments costs | X19: materials and equipment costs | AA19: Object address | AB19: travel and living costs
A20: Direct costs | B20: % | J20: Time shedule, weeks | V20: total | X20: planned | AA20: Time shedule, weeks | AM20: total
A21: Materials, incl.delivery, and subcontractors | B21: =H6/G5*100 -> #DIV/0! | K21: 1 | L21: 2 | M21: 3 | N21: 4 | O21: 5 | P21: 6 | X21: in fact | Y21: =V23 -> 0 | AB21: 1 | AC21: 2 | AD21: 3 | AE21: 4 | AF21: 5 | AG21: 6 | AH21: 7 | AI21: 8 | AJ21: 9 | AK21: 10 | AL21: 11
A22: Salaries and taxes | B22: =H9/G5*100 -> #DIV/0! | K22: =V22/4 -> 0 | L22: =K22 -> 0 | M22: =K22 -> 0 | N22: =M22 -> 0 | V22: =Y20 -> 0 | X22: travel and living costs | AB22: =AM22/4 -> 0 | AC22: =AB22 -> 0 | AD22: =AC22 -> 0 | AE22: =AD22 -> 0 | AM22: =Y23 -> 0
A23: Other costs | B23: =H14/G5*100 -> #DIV/0! | V23: =K23+L23+M23+N23+O23+P23+U23+Q23+R23+S23+T23 -> 0 | X23: planned | AM23: =AB23+AC23+AD23+AE23+AF23+AG23+AL23+AH23+AI23+AJ23+AK23 -> 0
X24: in fact | Y24: =AM23 -> 0
X26: Subcontractors budget, EUR
X27: Payments to subcontractor, EUR
X31: date of report
A36: Līgums | B36: 0.3 | C36: 0.6 | D36: 0.1 | E36: kontrole
A37: 344777.91 | B37: =ROUND($A$37*0.3,2) -> 103433.37 | C37: =ROUND($A$37*0.6,2) -> 206866.75 | D37: =ROUND($A$37*0.1,2) -> 34477.79 | E37: =D37+C37+B37 -> 344777.91
A38: 377423.34 | B38: =ROUND($A$38*0.3,2) -> 113227 | C38: =ROUND($A$38*0.6,2) -> 226454 | D38: =ROUND($A$38*0.1,2) -> 37742.33 | E38: =D38+C38+B38 -> 377423.33
A39: 11.493 | B39: kurss 14/07
A40: =ROUND(A37/$A$39,2) -> 29998.95 | B40: =ROUND(B37/$A$39,2) -> 8999.68 | C40: =ROUND(C37/$A$39,2) -> 17999.37 | D40: =ROUND(D37/$A$39,2) -> 2999.89 | E40: =SUM(B40:D40) -> 29998.94
A41: =ROUND(A38/$A$39,2) -> 32839.41 | B41: =ROUND(B38/$A$39,2) -> 9851.82 | C41: =ROUND(C38/$A$39,2) -> 19703.65 | D41: =ROUND(D38/$A$39,2) -> 3283.94 | E41: =SUM(B41:D41) -> 32839.41
A42: Kurss Māra aprēķinos
A43: 11.62
A44: =ROUND((A37+A38)/A43,2) -> 62151.57
A45: =A40+A41-A44 -> 686.79

Sheet FAL (2)
A1: FAL2 | B1: Falconeri and Calzedonia, Stockholm, Wastermalm, Sweden 29/11/2023-15/12/2023
A2: Object costs | L2: KPI
C3: Novembris/decembris | I3: Total | L3: Object address | M3: execution of contract | Z3: execution of the contract | AC3: Object address | AD3: worked hours
A4: Objekta ieņēmumi kopā | B4: Budget total | C4: =AA10 -> 18614.6 | E4: =AA11 -> 0 | I4: =AA10+AA11+G4 -> 18614.6 | J4: =D4+F4 -> 0 | L4: Time shedule, weeks | X4: total | Z4: planned | AA4: =X6 -> 1 | AC4: Time shedule, weeks | AD4: 29/11-03/12 | AE4: 04/12-10/12 | AF4: 11/12-17/12 | AO4: total
A5: Objekta tiešie izdevumi | B5: Direct costs | C5: =C6+C7+C8+C9+C10+C11+C13+C14+C16+C15+C12 -> 12552.015 | E5: =E6+E7+E8+E9+E10+E11+E13+E14+E16+E15+E12 -> 0 | G5: =G6+G7+G8+G9+G10+G11+G13+G14+G16+G15+G12 -> 0 | I5: =C5+E5+G5 -> 12552.015 | M5: 1 | N5: 2 | O5: 3 | P5: 4 | Q5: 5 | R5: 6 | Z5: in fact | AA5: 1 | AD5: 1 | AE5: 2 | AF5: 3 | AG5: 4 | AH5: 5 | AI5: 6 | AJ5: 7 | AK5: 8 | AL5: 9 | AM5: 10 | AN5: 11
A6: materiālu un aprīkojuma iegāde | B6: materials and equipment | C6: =370.78+120+548.78+176.87+42.21+86.52+147.78+71.49+32.09+39.33+74.4+70.19 -> 1780.44 | D6: =C6+C7+C8 -> 2100.44 | F6: =E6+E7+E8 -> 0 | H6: =G6+G7+G8 -> 0 | I6: =C6+E6+G6 -> 1780.44 | J6: =I6+I7+I8 -> 2100.44 | M6: 0.25 | N6: 0.5 | O6: 0.75 | P6: 1 | X6: =P6 -> 1 | Z6: hours per m2 | AD6: =AO6/4 -> 0 | AE6: =AD6 -> 0 | AF6: =AD6 -> 0 | AG6: =AD6 -> 0
A7: materiālu piegādes izdevumi | B7: delivery | I7: =C7+E7+G7 -> 0 | X7: =R7 -> 0 | Z7: planned | AA7: =AO6/AA13 -> #DIV/0! | AD7: =58.38+8.58+7.57+7.6 -> 82.13 | AE7: =10.4+26.88+3+25.95+4+14.9+21.43+3 -> 109.56 | AF7: =29.5+19.42+19.38+13 -> 81.3 | AO7: =AD7+AE7+AF7+AG7+AH7+AI7+AN7+AJ7+AK7+AL7+AM7 -> 272.99
A8: apakšuzņēmēji | B8: subcontractors | C8: =150+170 -> 320 | I8: =C8+E8+G8 -> 320 | R8: =AA11/AA10 -> 0 | X8: =SUM(M8:W8) -> 0 | Z8: in fact | AA8: =AO7/AA13 -> #DIV/0!
A9: darba algas | B9: salaries | C9: =((19.45*16+11.45*8+19.5*15+11.42*7.5+19.43*14+11.42*7+81.36*16+61.94*15+71.31*14)-C13)*1.42 -> 2999.1962 | D9: =C9+C10+C11+C13+C12 -> 7556.2651 | F9: =E9+E10+E11+E13+E12 -> 0 | H9: =G9+G10+G11+G13+G12 -> 0 | I9: =C9+E9+G9 -> 2999.1962 | J9: =I9+I10+I11+I13+I12 -> 7556.2651
A10: DD VSAOI | B10: tax for salaries | C10: =C9*0.2359 -> 707.51038 | G10: =G9*0.2359 -> 0 | I10: =C10+E10+G10 -> 707.51038 | Z10: Contract amount EUR | AA10: =7528.14+1576+9510.46 -> 18614.6
A11: uzkrājums atvaļinājumam | B11: vacation allowance | C11: =(C9+C10)*0.08 -> 296.53653 | G11: =(G9+G10)*0.08 -> 0 | I11: =C11+E11+G11 -> 296.53653 | Z11: Additional works, EUR
A12: administratīvie izdevumi 7% | B12: administrative costs 7% | C12: =(C4)*0.07 -> 1303.022 | I12: =C12+E12+G12 -> 1303.022
A13: komandējuma dienas naudas | B13: travel allowance | C13: =6*50+39*50 -> 2250 | I13: =C13+E13+G13 -> 2250 | Z13: square m2
A14: komandējuma izdevumi- naktsmītne | B14: travel expenses (hotels) | C14: =1080+180+180+90 -> 1530 | D14: =C14+C16+C15 -> 2895.31 | F14: =E14+E16+E15 -> 0 | H14: =G14+G16+G15 -> 0 | I14: =C14+E14+G14 -> 1530 | J14: =I14+I16+I15 -> 2895.31 | Z14: object square | AA14: hours optimal/ m2
A15: komandējuma izdevumi- ceļš | B15: travel expenses ( tickets, road costs) | C15: =500.97+589.8/2 -> 795.87 | I15: =C15+E15+G15 -> 795.87 | Z15: m2<50 | AA15: 13
A16: citi izdevumi | B16: other expenses | C16: =140.96+6.63*6+6.66+6.68*3+13.29+13.28+6.63+6.69+197.78+124.33 -> 569.44 | I16: =C16+E16+G16 -> 569.44 | Z16: 50<m2<100 | AA16: 12
A17: peļņa bruto | B17: profit/ loss | C17: =C4-C5 -> 6062.5849 | D17: =C17/C4 -> 0.32568978 | E17: =E4-E5 -> 0 | F17: =E17/E4 -> #DIV/0! | G17: =G4-G5 -> 0 | H17: =G17/G4 -> #DIV/0! | I17: =I4-I5 -> 6062.5849 | J17: =I17/I4 -> 0.32568978
L18: Object address | M18: materials and equipments costs | Z18: materials and equipment costs | AC18: Object address | AD18: travel and living costs
A19: Direct costs | B19: % | L19: Time shedule, weeks | X19: total | Z19: planned | AC19: Time shedule, weeks | AO19: total
A20: Materials, incl.delivery, and subcontractors | B20: =J6/I5*100 -> 16.733887 | M20: 1 | N20: 2 | O20: 3 | P20: 4 | Q20: 5 | R20: 6 | Z20: in fact | AA20: =I6 -> 1780.44 | AD20: 1 | AE20: 2 | AF20: 3 | AG20: 4 | AH20: 5 | AI20: 6 | AJ20: 7 | AK20: 8 | AL20: 9 | AM20: 10 | AN20: 11
A21: Salaries and taxes | B21: =J9/I5*100 -> 60.199618 | M21: =X21/4 -> 0 | N21: =M21 -> 0 | O21: =M21 -> 0 | P21: =M21 -> 0 | X21: =AA19 -> 0 | Z21: travel and living costs | AD21: =AO21/5 -> 0 | AE21: =AD21 -> 0 | AF21: =AD21 -> 0 | AG21: =AD21 -> 0 | AO21: =AA22 -> 0
A22: Other costs | B22: =J14/I5*100 -> 23.066495 | X22: =Q22+P22+O22+N22+M22 -> 0 | Z22: planned | AD22: 2030.97 | AO22: =AD22+AE22+AF22+AG22+AH22+AI22+AN22+AJ22+AK22+AL22+AM22 -> 2030.97
Z23: in fact | AA23: =AO22 -> 2030.97 | AE23: ]
Z25: Subcontractors budget, EUR
Z26: Payments to subcontractor, EUR
Z30: date of report
Z31: 45330
A36: Optimera | B36: 65419624 | C36: 540.76

Sheet BER2
A1: BER2 | B1: Levis Berlin, Alter Spandauer Weg 1 14641 Wustermark Germany, 30/11/2023-20/12/2023
A2: Object costs | J2: KPI
C3: Oktobris/ novembris | E3: Decembris | G3: Total | J3: Object address | K3: execution of contract | X3: execution of the contract | AA3: Object address | AB3: worked hours | AN3: =H9-G12 -> 52413.759
A4: Objekta ieņēmumi kopā | B4: Budget total | C4: =G4/3*2 -> 271703.91 | E4: =Y10/3 -> 135318.62 | G4: =Y10+Y11 -> 407555.87 | H4: =D4+F4 -> 0 | J4: Time shedule, weeks | K4: 27/10-05/11 | L4: 06/11-12/11 | M4: 13/11-19/11 | N4: 20/11-25/11 | O4: 26/11-2/12 | V4: total | X4: planned | Y4: 1 | AA4: Time shedule, weeks | AB4: 30/10-05/11 | AC4: 06/11-12/11 | AD4: 13/11-19/11 | AE4: 20/11-25/11 | AF4: 26/11-3/12 | AG4: 4/12-10/12 | AH4: 11/12-17/12 | AI4: 18/12-20/12 | AM4: total | AN4: =AN3/AM7 -> 18.191074
A5: Objekta tiešie izdevumi | B5: Direct costs | C5: =C6+C7+C8+C9+C10+C11+C13+C14+C16+C15+C12 -> 173492.43 | E5: =E6+E7+E8+E9+E10+E11+E13+E14+E16+E15+E12 -> 105882.7 | G5: =G6+G7+G8+G9+G10+G11+G13+G14+G16+G15+G12 -> 279375.14 | K5: 1 | L5: 2 | M5: 3 | N5: 4 | O5: 5 | P5: 6 | X5: in fact | Y5: =V7+V8 -> 0.0039413151 | AB5: 1 | AC5: 2 | AD5: 3 | AE5: 4 | AF5: 5 | AG5: 6 | AH5: 7 | AI5: 8 | AJ5: 9 | AK5: 10 | AL5: 11
A6: materiālu un aprīkojuma iegāde | B6: materials and equipment | C6: =3211+1760.65+632.19*2+2785.85+2896.73-52.85-12.79*2-54.17+102.58+4913.44-95.84+6513.46+10404.2+41.13+43.75+17.45+4117.49-71.37+65.5+1.45+64.95-35+39.41+58+25.35+16.7+32.75+37.95+1819.94+890.3-135.4+44.2+143.6+26.2+48.6+9.29+3.75+12.95+30.5+15.9+29.5+8.35+13.5+22.45+53+60.2+13.7+421.54+298.43+17.95+14.2+41.85+40.8+44.45+173.74+76.4+51.75+913.33+65.25+103.9+187+40.15+7.6+60.15+221.2+82.45+7.95+18.95+55.25+54.75+98+23.22+67+26.7+6.95+87.38 -> 44498.18 | D6: =C6+C7+C8 -> 98904.38 | E6: =94.46+202+8977.15+146.21-329.06+63.95+23.82+63.9+9.8+49.7+113.05+2.95+9.94+7.4+93.65+24.7+26.84+44.69+165.1+115+40.8+69.55+8.2+1075.85+224.1+139.4+91.35+1134+160+1134+62.05+56.89+7.45+122.69+91.5+648.99+116.55+54.14+628.99+35.15+266.52+32.11 -> 16105.53 | F6: =E6+E7+E8 -> 74066.44 | G6: =C6+E6 -> 60603.71 | H6: =G6+G7+G8 -> 172970.82 | K6: 0.2 | L6: 0.4 | M6: 0.6 | N6: 0.8 | O6: 1 | V6: =O6 -> 1 | X6: hours per m2 | AB6: =AM6/8 -> 360.125 | AC6: =AB6 -> 360.125 | AD6: =AB6 -> 360.125 | AE6: =AB6 -> 360.125 | AF6: =AB6 -> 360.125 | AG6: =AB6 -> 360.125 | AH6: =AB6 -> 360.125 | AI6: =AB6 -> 360.125 | AM6: 2881
A7: materiālu piegādes izdevumi | B7: delivery | C7: =250+400 -> 650 | E7: =1900+930+550+980+350 -> 4710 | G7: =C7+E7 -> 5360 | V7: =N7 -> 0 | X7: planned | Y7: =AM6/Y13 -> 6.5477273 | AB7: =20.5+19+19+19+38.87+36.78+36.68+36.65 -> 226.48 | AC7: =47+57+60.35+57.55+57.87+47.8+57.6+58.03 -> 443.2 | AD7: =59+58+58.72+58.42+58.88+58.38+58.93+59.05 -> 469.38 | AE7: =59+59+60.2+59.05+60.15+59.15+60.32+7+52.73 -> 476.6 | AF7: =12+12+48.9+46.53+46.52+30.93+46.47+46.55+46.27+46.53 -> 382.7 | AG7: =538.57 -> 538.57 | AH7: 245.39 | AI7: 98.97 | AM7: =AB7+AC7+AD7+AE7+AF7+AG7+AL7+AH7+AI7+AJ7+AK7 -> 2881.29
A8: apakšuzņēmēji | B8: subcontractors | C8: =25666.2*2+523.8+1900 -> 53756.2 | E8: =553.6+4135+379.05+850+2952.15+3675+5703.6+3675+1300+16530.01+9240+2544.3+1713.2 -> 53250.91 | G8: =C8+E8 -> 107007.11 | L8: =Y11/Y10 -> 0.0039413151 | V8: =SUM(K8:U8) -> 0.0039413151 | X8: in fact | Y8: =AM7/Y13 -> 6.5483864
A9: darba algas | B9: salaries | C9: =((20.5*14+19*2*13+19*13.5+23043.33)-C13)*1.42 -> 17012.779 | D9: =C9+C10+C11+C13+C12 -> 53827.454 | E9: =((391.77*14+348.59*13+132.57*15)-E13)*1.42 -> 8882.1 | F9: =E9+E10+E11+E13+E12 -> 27077.882 | G9: =C9+E9 -> 25894.879 | H9: =G9+G10+G11+G13+G12 -> 80905.336
A10: DD VSAOI | B10: tax for salaries | C10: =C9*0.2359 -> 4013.3145 | E10: =E9*0.2359 -> 2095.2874 | G10: =C10+E10 -> 6108.6019 | X10: Contract amount EUR | Y10: 405955.87
A11: uzkrājums atvaļinājumam | B11: vacation allowance | C11: =(C9+C10)*0.08 -> 1682.0874 | E11: =(E9+E10)*0.08 -> 878.19099 | G11: =C11+E11 -> 2560.2784 | X11: Additional works, EUR | Y11: =1600 -> 1600
A12: administratīvie izdevumi 7% | B12: administrative costs 7% | C12: =(C4)*0.07 -> 19019.274 | E12: =(E4)*0.07 -> 9472.3036 | G12: =C12+E12 -> 28491.578
A13: komandējuma dienas naudas | B13: travel allowance | C13: =12*50+230*50 -> 12100 | E13: 5750 | G13: =C13+E13 -> 17850 | X13: square m2 | Y13: 440
A14: komandējuma izdevumi- naktsmītne | B14: travel expenses (hotels) | C14: =1917.44+84.92+1977.36*2+80+539.28+2876.16*2-98.87*2+719.04+90 -> 12939.98 | D14: =C14+C16+C15 -> 20760.6 | E14: =108.9+57.89+144+50+108.9*3 -> 687.49 | F14: =E14+E16+E15 -> 4738.38 | G14: =C14+E14 -> 13627.47 | H14: =G14+G16+G15 -> 25498.98 | X14: object square | Y14: hours optimal/ m2
A15: komandējuma izdevumi- ceļš | B15: travel expenses ( tickets, road costs) | C15: =207.02+273.99+154.63+476.04+3.8+2.1+6.5+106.16+146.56+160.1+188.52+104.99+106.54+24.35+81.91+153.99+217.99+321.98+55.3+120.9 -> 2913.37 | E15: =236.8+133.57+432.27+233.55+186.45+452.78 -> 1675.42 | G15: =C15+E15 -> 4588.79 | X15: m2<50 | Y15: 13
A16: citi izdevumi | B16: other expenses | C16: =125+50+5+21.9+36.4+105.81+157.02+137.42+1177.1+334.09+64.96+6+6+173.6+320.24+30+28.75+2127.96 -> 4907.25 | E16: =13.92+28.5+90+102.02+26.81+375.24+19.98+231.7+377.4+79.9+30+1000 -> 2375.47 | G16: =C16+E16 -> 7282.72 | X16: 50<m2<100 | Y16: 12
A17: peļņa bruto | B17: profit/ loss | C17: =C4-C5 -> 98211.479 | D17: =C17/C4 -> 0.36146509 | E17: =E4-E5 -> 29435.921 | F17: =E17/E4 -> 0.21753045 | G17: =G4-G5 -> 128180.73 | H17: =G17/G4 -> 0.31451083
J18: Object address | K18: materials and equipments costs | X18: materials and equipment costs | AA18: Object address | AB18: travel and living costs
A19: Direct costs | B19: % | J19: Time shedule, weeks | K19: 27/10-05/11 | L19: 06/11-12/11 | M19: 13/11-19/11 | N19: 20/11-25/11 | O19: 26/11-2/12 | V19: total | X19: planned | Y19: 69489 | AA19: Time shedule, weeks | AB19: 30/10-05/11 | AC19: 06/11-12/11 | AD19: 13/11-19/11 | AE19: 20/11-25/11 | AF19: 26/11-3/12 | AG19: 4/12-10/12 | AH19: 11/12-17/12 | AI19: 18/12-20/12 | AM19: total
A20: Materials, incl.delivery, and subcontractors | B20: =H6/G5*100 -> 61.913462 | K20: 1 | L20: 2 | M20: 3 | N20: 4 | O20: 5 | P20: 6 | X20: in fact | Y20: =G6+G7 -> 65963.71 | AB20: 1 | AC20: 2 | AD20: 3 | AE20: 4 | AF20: 5 | AG20: 6 | AH20: 7 | AI20: 8 | AJ20: 9 | AK20: 10 | AL20: 11
A21: Salaries and taxes | B21: =H9/G5*100 -> 28.95939 | K21: =V21/4 -> 17372.25 | L21: =K21 -> 17372.25 | M21: =K21 -> 17372.25 | N21: =V21/4 -> 17372.25 | V21: =Y19 -> 69489 | X21: travel and living costs | AB21: =AM21/8 -> 1300 | AC21: =AB21 -> 1300 | AD21: =AB21 -> 1300 | AE21: =AB21 -> 1300 | AF21: =AB21 -> 1300 | AG21: =AB21 -> 1300 | AH21: =AB21 -> 1300 | AI21: =AB21 -> 1300 | AM21: =Y22 -> 10400
A22: Other costs | B22: =H14/G5*100 -> 9.1271472 | V22: =K22+L22+M22+N22+O22+P22+U22+Q22+R22+S22+T22 -> 0 | X22: planned | Y22: =3000+6000+1400 -> 10400 | AB22: =207.02+273.99+154.63+476.04+1917.44+80+84.92+3.8+2.1+6.5+106.16+146.56+539.28+2876.16+160.1+188.52 -> 7223.22 | AC22: =2876.16 -> 2876.16 | AD22: =104.99+1977.36*2 -> 4059.71 | AE22: =-98.87*2+106.54+1695.35+90 -> 1694.15 | AG22: =236.8+133.57+432.27+233.55+186.45+452.78+144 -> 1819.42 | AH22: =108.9+57.89+50+108.9 -> 325.69 | AI22: =108.9*2 -> 217.8 | AM22: =AB22+AC22+AD22+AE22+AF22+AG22+AH22+AI22 -> 18216.15
X23: in fact | Y23: =AM22 -> 18216.15
X25: Subcontractors budget, EUR
X26: Payments to subcontractor, EUR
X30: date of report
X31: 45355

Sheet SIEC
A1: SIEC | B1: Calzedonia and Intimissimi Galerie (City-Galerie Siegen) Am Bahnhof 40, 57072 Siegen, Vācija, 31/10-27/11/2023
A2: Object costs | J2: KPI
C3: Oktobris/novembris | E3: Decembris | G3: Total | J3: Object address | K3: execution of contract | X3: execution of the contract | AA3: Object address | AB3: worked hours
A4: Objekta ieņēmumi kopā | B4: Budget total | C4: =Y10+Y11 -> 82261.75 | G4: =Y10+Y11 -> 82261.75 | H4: =AM6 -> 1019.94 | J4: Time shedule, weeks | K4: 31/10-6/11 | L4: 7/11-13/11 | M4: 14/11-20/11 | N4: 21/11-27/11 | V4: total | X4: planned | Y4: =N6 -> 1 | AA4: Time shedule, weeks | AB4: 31/10-6/11 | AC4: 7/11-13/11 | AD4: 14/11-19/11 | AE4: 20/11-27/11 | AF4: 28/11-30/11 | AM4: total
A5: Objekta tiešie izdevumi | B5: Direct costs | C5: =SUM(C6:C16) -> 47770.429 | E5: =E6+E7+E8+E9+E10+E11+E13+E14+E16+E15+E12 -> 5643.839 | G5: =G6+G7+G8+G9+G10+G11+G13+G14+G16+G15+G12 -> 53414.268 | H5: =AM7 -> 682.811 | K5: 1 | L5: 2 | M5: 3 | N5: 4 | O5: 5 | P5: 6 | Q5: 7 | R5: 8 | S5: 9 | T5: 10 | X5: in fact | Y5: =V7+V8 -> 1.041288 | AB5: 1 | AC5: 2 | AD5: 3 | AE5: 4 | AF5: 5 | AG5: 6 | AH5: 7 | AI5: 8 | AJ5: 9 | AK5: 10 | AL5: 11
A6: materiālu un aprīkojuma iegāde | B6: materials and equipment | C6: =600.84+1144.1+3425.25+341+175.77+613.05+466+139.95+259.66+303.7+113.35+29.8+187.35+87.65+86.17+208.2+57.97+31.99+217.05+140.07+33.96+446.3+409.68+9.74+239.19+66.16+119.96+272+117.77+77+54.36+534.63 -> 11009.67 | D6: =C6+C7+C8 -> 13315.01 | E6: =106.19+278.78+146.53 -> 531.5 | F6: =E6+E7+E8 -> 1307.35 | G6: =C6+E6 -> 11541.17 | H6: =G6+G7+G8 -> 14622.36 | K6: 0.25 | L6: 0.5 | M6: 0.75 | N6: 1 | V6: =N6 -> 1 | X6: hours per m2 | AB6: =AM6/5 -> 203.988 | AC6: =AB6 -> 203.988 | AD6: =AB6 -> 203.988 | AE6: =AD6 -> 203.988 | AF6: =AE6 -> 203.988 | AM6: =519.94+500 -> 1019.94
A7: materiālu piegādes izdevumi | B7: delivery | C7: =350+980+500+300 -> 2130 | G7: =C7+E7 -> 2130 | V7: 1 | X7: planned | Y7: =AM6/Y13 -> 7.9521285 | AB7: =11.5*4+27.25+27.43+27.22+27.47 -> 155.37 | AC7: =41.87+57.22+57.6+57.02 -> 213.71 | AD7: =60.63+60.5 -> 121.13 | AE7: =37.73+37.37+58.88+58.621 -> 192.601 | AF7: =40.55+45.1+33.23+44.63 -> 163.51 | AG7: =30.75+30.92 -> 61.67 | AM7: =AB7+AC7+AD7+AE7 -> 682.811
A8: apakšuzņēmēji | B8: subcontractors | C8: 175.34 | E8: =300+475.85 -> 775.85 | G8: =C8+E8 -> 951.19 | P8: =Y11/Y10 -> 0.041287975 | V8: =SUM(K8:U8) -> 0.041287975 | X8: in fact | Y8: =AM7/Y13 -> 5.3236473
A9: darba algas | B9: salaries | C9: =((11.5*2*15+11.5*2*12+3000/22*3+14195.34)-C13)*1.42 -> 9905.1119 | D9: =C9+C10+C11+C13+C12 -> 27229.389 | E9: =(62*15-E13+947)*1.42 -> 1600.34 | F9: =E9+E10+E11+E13+E12 -> 2886.089 | G9: =C9+E9 -> 11505.452 | H9: =G9+G10+G11+G13+G12 -> 30115.478
A10: DD VSAOI | B10: tax for salaries | C10: =C9*0.2359 -> 2336.6159 | E10: =E9*0.2359 -> 377.52021 | G10: =C10+E10 -> 2714.1361 | X10: Contract amount EUR | Y10: 79000
A11: uzkrājums atvaļinājumam | B11: vacation allowance | C11: =(C9+C10)*0.08 -> 979.33822 | E11: =(E9+E10)*0.08 -> 158.22882 | G11: =C11+E11 -> 1137.567 | X11: Additional works, EUR | Y11: 3261.75
A12: administratīvie izdevumi 7% | B12: administrative costs 7% | C12: =(C4)*0.07 -> 5758.3225 | E12: =(E4)*0.07 -> 0 | G12: =C12+E12 -> 5758.3225
A13: komandējuma dienas naudas | B13: travel allowance | C13: =50*2*5+155*50 -> 8250 | E13: =3*5*50 -> 750 | G13: =C13+E13 -> 9000 | X13: square m2 | Y13: =64.97+63.29 -> 128.26
A14: komandējuma izdevumi- naktsmītne | B14: travel expenses (hotels) | C14: =2400+387+33.5+135.5+1320+360 -> 4636 | D14: =C14+C16+C15 -> 7226.03 | E14: =654+148.17 -> 802.17 | F14: =E14+E16+E15 -> 1450.4 | G14: =C14+E14 -> 5438.17 | H14: =G14+G16+G15 -> 8676.43 | X14: object square | Y14: hours optimal/ m2
A15: komandējuma izdevumi- ceļš | B15: travel expenses ( tickets, road costs) | C15: =402.01+21.5+16.6+28+16.6+165.15+25.6+311.99+31.9+10 -> 1029.35 | G15: =C15+E15 -> 1029.35 | X15: m2<50 | Y15: 13
A16: citi izdevumi | B16: other expenses | C16: =216.52+125+135.5+15+12+21.5+48+124.04+25+9.2+62.4+2+50+50+113.95+5+48+277.5+12+10+5+24+6.5+32.97+47.1+13.9+68.6 -> 1560.68 | E16: =65.03+100.96+104.95+377.29 -> 648.23 | G16: =C16+E16 -> 2208.91 | X16: 50<m2<100 | Y16: 12
A17: peļņa bruto | B17: profit/ loss | C17: =C4-C5 -> 34491.321 | D17: =C17/C4 -> 0.41928748 | E17: =E4-E5 -> -5643.839 | F17: =E17/E4 -> #DIV/0! | G17: =G4-G5 -> 28847.482 | H17: =G17/G4 -> 0.35067917
J18: Object address | K18: materials and equipments costs | X18: materials and equipment costs | AA18: Object address | AB18: travel and living costs
A19: Direct costs | B19: % | J19: Time shedule, weeks | K19: 31/10-6/11 | L19: 7/11-13/11 | M19: 14/11-20/11 | N19: 21/11-27/11 | V19: total | X19: planned | Y19: =6591.94+7287 -> 13878.94 | AA19: Time shedule, weeks | AB19: 31/10-6/11 | AC19: 7/11-13/11 | AD19: 14/11-20/11 | AE19: 21/11-27/11 | AM19: total
A20: Materials, incl.delivery, and subcontractors | B20: =H6/G5*100 -> 27.375382 | K20: 1 | L20: 2 | M20: 3 | N20: 4 | O20: 5 | P20: 6 | Q20: 7 | R20: 8 | S20: 9 | T20: 10 | X20: in fact | Y20: =G6+G7 -> 13671.17 | AB20: 1 | AC20: 2 | AD20: 3 | AE20: 4 | AF20: 5 | AG20: 6 | AH20: 7 | AI20: 8 | AJ20: 9 | AK20: 10 | AL20: 11
A21: Salaries and taxes | B21: =H9/G5*100 -> 56.380961 | K21: =V21/6 -> 2313.1567 | L21: =K21 -> 2313.1567 | M21: =K21 -> 2313.1567 | N21: =M21 -> 2313.1567 | O21: =N21 -> 2313.1567 | P21: =O21 -> 2313.1567 | V21: =Y19 -> 13878.94 | X21: travel and living costs | AB21: =AM21/5 -> 1500 | AC21: =AB21 -> 1500 | AD21: =AB21 -> 1500 | AE21: =AD21 -> 1500 | AF21: =AE21 -> 1500 | AG21: =AF21 -> 1500 | AM21: =Y22 -> 7500
A22: Other costs | B22: =H14/G5*100 -> 16.243656 | V22: =K22+L22+M22+N22+O22+P22+U22+Q22+R22+S22+T22 -> 0 | X22: planned | Y22: =3500+4000 -> 7500 | AB22: =2400+387+135.5+402.01+21.5+16.6+28+16.6 -> 3407.21 | AC22: 33.5 | AD22: 1320 | AF22: =654+148.17 -> 802.17 | AM22: =AB22+AC22+AD22+AE22+AF22+AG22+AL22+AH22+AI22+AJ22+AK22 -> 5562.88
X23: in fact | Y23: =G14+G15 -> 6467.52
X25: Subcontractors budget, EUR
X26: Payments to subcontractor, EUR
X30: date of report
X31: 45334

Sheet TAL2
A1: TAL2 | B1: SC Viru Keskus Viru valjak 406 10111 Tallinn, 23/10/21023-23/11/2023
A2: Object costs | J2: KPI
C3: Oktobris | E3: Novembris | G3: Total | J3: Object address | K3: execution of contract | X3: execution of the contract | AA3: Object address | AB3: worked hours
A4: Objekta ieņēmumi kopā | B4: Budget total | C4: =G4/5*1 -> 24087.19 | E4: =C4*4 -> 96348.76 | G4: =Y10+Y11 -> 120435.95 | H4: =D4+F4 -> 0 | J4: Time shedule, weeks | K4: 23/10-29/10 | L4: 30/10-5/11 | M4: 6/11-12/11 | N4: 13/11-19/11 | O4: 20/11-23/11 | V4: total | X4: planned | Y4: =V6 -> 1 | AA4: Time shedule, weeks | AB4: 23/10-29/10 | AC4: 30/10-5/11 | AD4: 6/11-12/11 | AE4: 13/11-19/11 | AF4: 20/11-23/11 | AM4: total
A5: Objekta tiešie izdevumi | B5: Direct costs | C5: =C6+C7+C8+C9+C10+C11+C13+C14+C16+C15+C12 -> 19364.991 | E5: =E6+E7+E8+E9+E10+E11+E13+E14+E16+E15+E12 -> 88208.558 | G5: =G6+G7+G8+G9+G10+G11+G13+G14+G16+G15+G12 -> 107573.55 | K5: 1 | L5: 2 | M5: 3 | N5: 4 | O5: 5 | P5: 6 | X5: in fact | Y5: =V7+V8 -> 1.2793421 | AB5: 1 | AC5: 2 | AD5: 3 | AE5: 4 | AF5: 5 | AG5: 6 | AH5: 7 | AI5: 8 | AJ5: 9 | AK5: 10 | AL5: 11
A6: materiālu un aprīkojuma iegāde | B6: materials and equipment | C6: =11660.05-297.52-933.1-220.04-604.59 -> 9604.8 | D6: =C6+C7+C8 -> 10144.8 | E6: =893.62+188.31+341.91+1427.1+56.88+78.44+72.76+173.35+65.9+59.4+18.99+19.45+28.77+17.99+48.29+116.71 -> 3607.87 | F6: =E6+E7+E8 -> 54604.16 | G6: =C6+E6 -> 13212.67 | H6: =G6+G7+G8 -> 64748.96 | K6: 0.2 | L6: 0.4 | M6: 0.6 | N6: 0.8 | O6: 1 | V6: =O6 -> 1 | X6: hours per m2 | AB6: =AM6/5 -> 243.4 | AC6: =AB6 -> 243.4 | AD6: =AB6 -> 243.4 | AE6: =AB6 -> 243.4 | AF6: =AB6 -> 243.4 | AM6: =457+760 -> 1217
A7: materiālu piegādes izdevumi | B7: delivery | C7: 540 | E7: =300+770+1750+390 -> 3210 | G7: =C7+E7 -> 3750 | V7: 1 | X7: planned | Y7: =AM6/Y13 -> 11.488719 | AB7: =44.3+45.3+13.7+45+44.5+33.2 -> 226 | AC7: =19.5+19.5+19.5+27.43+27.38+27.6+26.97 -> 167.88 | AD7: =67.03+67.18+66.78+67.13 -> 268.12 | AE7: =79.4+80.08+79.3+57.08+79.08 -> 374.94 | AF7: =81.92+73.7+73.47+51.22+71.57+67.72+7.85+8.67 -> 436.12 | AG7: =13.76+32 -> 45.76 | AM7: =AB7+AC7+AD7+AE7+AF7+AG7+AL7+AH7+AI7+AJ7+AK7 -> 1518.82
A8: apakšuzņēmēji | B8: subcontractors | E8: =1779.65*2+73+4725.5+8340.5+10920.25+2799.31+15368.43+950+1050 -> 47786.29 | G8: =C8+E8 -> 47786.29 | O8: =Y11/Y10 -> 0.27934213 | V8: =SUM(K8:U8) -> 0.27934213 | X8: in fact | Y8: =AM7/Y13 -> 14.337959
A9: darba algas | B9: salaries | C9: =((33.2*11.5+44.5*11+64.5*12+64.8*14+13.7*11+64*11.5+210.21)-C13)*1.42 -> 2626.1622 | D9: =C9+C10+C11+C13+C12 -> 6991.4311 | E9: =((15631.17+320-130.3+365+224)-E13)*1.42 -> 14043.615 | F9: =E9+E10+E11+E13+E12 -> 32009.438 | G9: =C9+E9 -> 16669.778 | H9: =G9+G10+G11+G13+G12 -> 39000.869
A10: DD VSAOI | B10: tax for salaries | C10: =C9*0.2359 -> 619.51166 | E10: =E9*0.2359 -> 3312.8889 | G10: =C10+E10 -> 3932.4005 | X10: Contract amount EUR | Y10: =B38 -> 94138.97
A11: uzkrājums atvaļinājumam | B11: vacation allowance | C11: =(C9+C10)*0.08 -> 259.65391 | E11: =(E9+E10)*0.08 -> 1388.5203 | G11: =C11+E11 -> 1648.1743 | X11: Additional works, EUR | Y11: =12418.23+1368.4+660+348.15+11502.2 -> 26296.98
A12: administratīvie izdevumi 7% | B12: administrative costs 7% | C12: =(C4)*0.07 -> 1686.1033 | E12: =(E4)*0.07 -> 6744.4132 | G12: =C12+E12 -> 8430.5165
A13: komandējuma dienas naudas | B13: travel allowance | C13: =45*40 -> 1800 | E13: =159*40+2*40*2 -> 6520 | G13: =C13+E13 -> 8320 | X13: square m2 | Y13: =47.03+58.9 -> 105.93
A14: komandējuma izdevumi- naktsmītne | B14: travel expenses (hotels) | C14: =1015.56+643.19 -> 1658.75 | D14: =C14+C16+C15 -> 2228.76 | E14: =236+122.55+23+64.22+331.2+48+104.4 -> 929.37 | F14: =E14+E16+E15 -> 1594.96 | G14: =C14+E14 -> 2588.12 | H14: =G14+G16+G15 -> 3823.72 | X14: object square | Y14: hours optimal/ m2
A15: komandējuma izdevumi- ceļš | B15: travel expenses ( tickets, road costs) | C15: =28*4+23+56 -> 191 | E15: =16+16+28+16+31.08 -> 107.08 | G15: =C15+E15 -> 298.08 | X15: m2<50 | Y15: 13
A16: citi izdevumi | B16: other expenses | C16: =125+132.01+50+72 -> 379.01 | E16: =186.66+16*8+81.98+7+16.07+40+14.9+4+7.9+4+48+20 -> 558.51 | G16: =C16+E16 -> 937.52 | X16: 50<m2<100 | Y16: 12
A17: peļņa bruto | B17: profit/ loss | C17: =C4-C5 -> 4722.1989 | D17: =C17/C4 -> 0.19604607 | E17: =E4-E5 -> 8140.2022 | F17: =E17/E4 -> 0.084486839 | G17: =G4-G5 -> 12862.401 | H17: =G17/G4 -> 0.10679869
J18: Object address | K18: materials and equipments costs | X18: materials and equipment costs | AA18: Object address | AB18: travel and living costs
A19: Direct costs | B19: % | J19: Time shedule, weeks | K19: 23/10-29/10 | L19: 30/10-5/11 | M19: 6/11-12/11 | N19: 13/11-19/11 | O19: 20/11-23/11 | V19: total | X19: planned | Y19: =4293+8095 -> 12388 | AA19: Time shedule, weeks | AB19: 23/10-29/10 | AC19: 30/10-5/11 | AD19: 6/11-12/11 | AE19: 13/11-19/11 | AF19: 20/11-23/11 | AM19: total
A20: Materials, incl.delivery, and subcontractors | B20: =H6/G5*100 -> 60.19041 | K20: 1 | L20: 2 | M20: 3 | N20: 4 | O20: 5 | P20: 6 | X20: in fact | Y20: =G6+G7 -> 16962.67 | AB20: 1 | AC20: 2 | AD20: 3 | AE20: 4 | AF20: 5 | AG20: 6 | AH20: 7 | AI20: 8 | AJ20: 9 | AK20: 10 | AL20: 11
A21: Salaries and taxes | B21: =H9/G5*100 -> 36.255073 | K21: =V21/6 -> 2064.6667 | L21: =K21 -> 2064.6667 | M21: =K21 -> 2064.6667 | N21: =V21/6 -> 2064.6667 | O21: =N21 -> 2064.6667 | P21: =O21 -> 2064.6667 | V21: =Y19 -> 12388 | X21: travel and living costs | AB21: =AM21/5 -> 1180 | AC21: =AB21 -> 1180 | AD21: =AB21 -> 1180 | AE21: =AB21 -> 1180 | AF21: =AE21 -> 1180 | AG21: =AF21 -> 1180 | AM21: =Y22 -> 5900
A22: Other costs | B22: =H14/G5*100 -> 3.5545169 | V22: =K22+L22+M22+N22+O22+P22+U22+Q22+R22+S22+T22 -> 0 | X22: planned | Y22: =2950*2 -> 5900 | AB22: =1015.56+643.19+28*4+23+56 -> 1849.75 | AC22: 16 | AD22: =122.5+23 -> 145.5 | AE22: 236 | AF22: =16+31.08+156.27 -> 203.35 | AG22: =331.2+104.4 -> 435.6 | AM22: =AB22+AC22+AD22+AE22+AF22+AG22+AL22+AH22+AI22+AJ22+AK22 -> 2886.2
X23: in fact | Y23: =AM22 -> 2886.2
X25: Subcontractors budget, EUR
X26: Payments to subcontractor, EUR
X30: date of report
X31: 45300
C35: 0.3 | D35: 0.4 | E35: 0.3
A36: Calzedonia | B36: 39746.19 | C36: =ROUND(B36*C35,2) -> 11923.86 | D36: =ROUND(B36*D35,2) -> 15898.48 | E36: =C36-0.01 -> 11923.85 | F36: =C36+D36+E36 -> 39746.19
A37: Intimissimi | B37: 54392.78 | C37: =ROUND(B37*C35,2) -> 16317.83 | D37: =ROUND(B37*D35,2) -> 21757.11 | E37: =C37+0.01 -> 16317.84 | F37: =C37+D37+E37 -> 54392.78
A38: Kopā | B38: =SUM(B36:B37) -> 94138.97 | C38: =SUM(C36:C37) -> 28241.69 | D38: =SUM(D36:D37) -> 37655.59 | E38: =SUM(E36:E37) -> 28241.69 | F38: =SUM(F36:F37) -> 94138.97
A41: Papilddarbi | B41: =Y11 -> 26296.98
A42: Apakšuzņēmēji | B42: =1244+600+3559.3+6780+950+10920.25 -> 24053.55

Sheet CHA
A1: CHA | B1: Chanel, Jakobsbergsgatan 6, 111 44 Stockholm, Sweden, 02/10-23/11/2023
A2: Object costs | L2: KPI
C3: Oktober | E3: Novembris | G3: Decembris | I3: Total | L3: Object address | M3: execution of contract | Z3: execution of the contract | AC3: Object address | AD3: worked hours
A4: Objekta ieņēmumi kopā | B4: Budget total | C4: 35155 | E4: =45865+1040+1865.2 -> 48770.2 | G4: =I4-C4-E4 -> 2360 | I4: =AA10+AA11 -> 86285.2 | J4: =AO6 -> 875 | L4: Time shedule, weeks | M4: 02/10-08/10 | N4: 09/10-15/10 | O4: 16/10-22/10 | P4: 23/10-29/10 | Q4: 30/10-5/11 | X4: total | Z4: planned | AA4: =P6 -> 1 | AC4: Time shedule, weeks | AD4: 02/10-08/10 | AE4: 09/10-15/10 | AF4: 16/10-22/10 | AG4: 23/10-29/10 | AH4: 30/10-5/11 | AI4: 06/11-12/11 | AJ4: 13/11-19/11 | AK4: 20/11-26/11 | AL4: 45261 | AO4: total
A5: Objekta tiešie izdevumi | B5: Direct costs | C5: =C6+C7+C8+C9+C10+C11+C13+C14+C16+C15+C12 -> 36933.712 | E5: =E6+E7+E8+E9+E10+E11+E13+E14+E16+E15+E12 -> 41145.957 | G5: =G6+G7+G8+G9+G10+G11+G13+G14+G16+G15+G12 -> 2841.1636 | I5: =I6+I7+I8+I9+I10+I11+I13+I14+I16+I15+I12 -> 80920.833 | J5: =AO7 -> 1599.58 | M5: 1 | N5: 2 | O5: 3 | P5: 4 | Q5: 5 | R5: 6 | Z5: in fact | AA5: =X7+X8 -> 1.277493 | AD5: 1 | AE5: 2 | AF5: 3 | AG5: 4 | AH5: 5 | AI5: 6 | AJ5: 7 | AK5: 8 | AL5: 9 | AM5: 10 | AN5: 11
A6: materiālu un aprīkojuma iegāde | B6: materials and equipment | C6: =212.93+136.4+684.75+178.04+1004.8+3284.11+889.74+C66+72+101.45+198.29 -> 9035.6193 | D6: =C6+C7+C8 -> 11515.619 | E6: =830.99+12+1827.5+126.28+52.8+6+32.19+510.42+239.89+91.85+993.13+E66+100.46+180.03+266.69+48.02+46.69+291.85+353.93+105.34+112.22+62.28+52.88 -> 10989.323 | F6: =E6+E7+E8 -> 12908.813 | G6: =44.97+G66 -> 269.64192 | H6: =G6+G7+G8 -> 663.78192 | I6: =C6+E6+G6 -> 20294.584 | J6: =I6+I7+I8 -> 25088.214 | M6: 0.25 | N6: 0.5 | O6: 0.75 | P6: 1 | X6: =P6 -> 1 | Z6: hours per m2 | AD6: =AO6/5 -> 175 | AE6: =AD6 -> 175 | AF6: =AD6 -> 175 | AG6: =AO6/5 -> 175 | AH6: =AG6 -> 175 | AO6: =801+74 -> 875
A7: materiālu piegādes izdevumi | B7: delivery | C7: =350/2+1620+685 -> 2480 | E7: =490+49.49+470+150+290+470 -> 1919.49 | G7: 300 | I7: =C7+E7+G7 -> 4699.49 | X7: 1 | Z7: planned | AA7: =AO6/AA13 -> 6.4814815 | AD7: 51.96 | AE7: 214.9 | AF7: 239 | AG7: 97.82 | AH7: =40.27+145.95 -> 186.22 | AI7: =59.85+62.77-10.5+63 -> 175.12 | AJ7: 386.56 | AK7: 175 | AL7: 73 | AO7: =AD7+AE7+AF7+AG7+AH7+AI7+AN7+AJ7+AK7+AL7+AM7 -> 1599.58
A8: apakšuzņēmēji | B8: subcontractors | G8: 94.14 | I8: =C8+E8+G8 -> 94.14 | P8: =AA11/AA10 -> 0.27749302 | X8: =SUM(M8:W8) -> 0.27749302 | Z8: in fact | AA8: =AO7/AA13 -> 11.848741
A9: darba algas | B9: salaries | C9: =(164*16+316.5*15+164.5*14-C13)*1.42 -> 6850.79 | D9: =C9+C10+C11+C13+C12 -> 16455.093 | E9: =((232.15*16+226.88*15+227.67*14+67.52*15*2+667.5)-E13)*1.42 -> 10789.274 | F9: =E9+E10+E11+E13+E12 -> 23215.134 | G9: =(73*14-G13)*1.42 -> 1025.24 | H9: =G9+G10+G11+G13+G12 -> 1833.6616 | I9: =C9+E9+G9 -> 18665.304 | J9: =I9+I10+I11+I13+I12 -> 41503.889
A10: DD VSAOI | B10: tax for salaries | C10: =C9*0.2359 -> 1616.1014 | E10: =E9*0.2359 -> 2545.1896 | G10: =G9*0.2359 -> 241.85412 | I10: =C10+E10+G10 -> 4403.1451 | Z10: Contract amount EUR | AA10: 67542.6
A11: uzkrājums atvaļinājumam | B11: vacation allowance | C11: =(C9+C10)*0.08 -> 677.35131 | E11: =(E9+E10)*0.08 -> 1066.7571 | G11: =(G9+G10)*0.08 -> 101.36753 | I11: =C11+E11+G11 -> 1845.4759 | Z11: Additional works, EUR | AA11: =AA56+AA55 -> 18742.6
A12: administratīvie izdevumi 7% | B12: administrative costs 7% | C12: =(C4)*0.07 -> 2460.85 | E12: =(E4)*0.07 -> 3413.914 | G12: =(G4)*0.07 -> 165.2 | I12: =C12+E12+G12 -> 6039.964
A13: komandējuma dienas naudas | B13: travel allowance | C13: =97*50 -> 4850 | E13: =108*50 -> 5400 | G13: =6*50 -> 300 | I13: =C13+E13+G13 -> 10550 | Z13: square m2 | AA13: 135
A14: komandējuma izdevumi- naktsmītne | B14: travel expenses (hotels) | C14: =3685.24 -> 3685.24 | D14: =C14+C16+C15 -> 8963 | E14: =931.73+305.95+44.97+1033.59+232.02 -> 2548.26 | F14: =E14+E16+E15 -> 5022.01 | H14: =G14+G16+G15 -> 343.72 | I14: =C14+E14+G14 -> 6233.5 | J14: =I14+I16+I15 -> 14328.73 | Z14: object square | AA14: hours optimal/ m2
A15: komandējuma izdevumi- ceļš | B15: travel expenses ( tickets, road costs) | C15: =661.5+590.5+310.62+648.37+41.61+13.38+52.77 -> 2318.75 | E15: =213.99+294.73+139.6+450.8+285.99 -> 1385.11 | G15: =589.9/2 -> 294.95 | I15: =C15+E15+G15 -> 3998.81 | Z15: m2<50 | AA15: 13
